BEGIN:VCALENDAR
VERSION:2.0
PRODID:-//Octubre Centre de Cultura Contemporània - ECPv5.1.6//NONSGML v1.0//EN
CALSCALE:GREGORIAN
METHOD:PUBLISH
X-WR-CALNAME:Octubre Centre de Cultura Contemporània
X-ORIGINAL-URL:https://octubre.cat
X-WR-CALDESC:Events for Octubre Centre de Cultura Contemporània
BEGIN:VTIMEZONE
TZID:Europe/Andorra
BEGIN:DAYLIGHT
TZOFFSETFROM:+0100
TZOFFSETTO:+0200
TZNAME:CEST
DTSTART:20110327T010000
END:DAYLIGHT
BEGIN:STANDARD
TZOFFSETFROM:+0200
TZOFFSETTO:+0100
TZNAME:CET
DTSTART:20111030T010000
END:STANDARD
END:VTIMEZONE
BEGIN:VEVENT
DTSTART;TZID=Europe/Andorra:20110622T190000
DTEND;TZID=Europe/Andorra:20110622T190000
DTSTAMP:20260424T054945
CREATED:20200729T165553Z
LAST-MODIFIED:20200730T042840Z
UID:9257-1308769200-1308769200@octubre.cat
SUMMARY:Bar científic 'Innova't en sostenibilitat'
DESCRIPTION:Dimecres 22 de juny a les 19.00h: “Innova’t en sostenibilitat”\, amb Joan Oltra (Universitat de València)\, José Vicente Latorre (Agència Valenciana de l’Energia)\, Joa Ribó (Compromís) i Núria Cadenes (El Temps)  \n  \n  \n\n Quins beneficis aconseguim quan estalviem energia?   Quins beneficis aconseguim quan estalviem energia? La Càtedra de Divulgació de la Ciència de la Universitat de València i l’Ajuntament de Burjassot et conviden a parlar de totes les possibilitats al nostre abast per a estalviar energia\, diners i\, alhora\, millorar el nostre entorn. Podràs parlar amb Joan Oltra\, gerent de la Universitat de València\, José Vicente Latorre\, cap d’Eficiència Energètica de l’Agència Valenciana de l’Energia i el representant de Compromís Joan Ribó.  PARTICIPANTS: –Joan Oltra\, gerent de la Universitat de València –José Vicente Latorre\, cap del departament d’Eficiència Energètica de l’Agència Valenciana de l’Energia (AVEN) de la Generalitat Valenciana. –Joan Ribó\, representant de Compromís. –Moderadora: Núria Cadenes\, periodista de El Temps  Organitza: la Càtedra de Divulgació de la Ciència de la Universitat de València\, Acció Cultural del País Valencià\, Institut d’Estudis Catalans i l’Octubre CCC amb la col·laboració del Ministeri de Ciencia y Innovación\, Fundación Española para la Ciencia y Tecnologia y la Red de Unidades de Cultura Científica.
URL:https://octubre.cat/activitat/bar-cientific-innovat-en-sostenibilitat/
LOCATION:No definit
CATEGORIES:Espai Ciència
ATTACH;FMTTYPE=image/jpeg:https://octubre.cat/www/wp-content/uploads/2020/07/espaiciencia1.jpg
END:VEVENT
END:VCALENDAR