BEGIN:VCALENDAR
VERSION:2.0
PRODID:-//Octubre Centre de Cultura Contemporània - ECPv5.1.6//NONSGML v1.0//EN
CALSCALE:GREGORIAN
METHOD:PUBLISH
X-WR-CALNAME:Octubre Centre de Cultura Contemporània
X-ORIGINAL-URL:https://octubre.cat
X-WR-CALDESC:Events for Octubre Centre de Cultura Contemporània
BEGIN:VTIMEZONE
TZID:Europe/Andorra
BEGIN:DAYLIGHT
TZOFFSETFROM:+0100
TZOFFSETTO:+0200
TZNAME:CEST
DTSTART:20150329T010000
END:DAYLIGHT
BEGIN:STANDARD
TZOFFSETFROM:+0200
TZOFFSETTO:+0100
TZNAME:CET
DTSTART:20151025T010000
END:STANDARD
END:VTIMEZONE
BEGIN:VEVENT
DTSTART;TZID=Europe/Andorra:20150407T000000
DTEND;TZID=Europe/Andorra:20150429T000000
DTSTAMP:20260421T234638
CREATED:20200729T171020Z
LAST-MODIFIED:20200903T153126Z
UID:10136-1428364800-1430265600@octubre.cat
SUMMARY:Ballar el moro
DESCRIPTION:Als territoris de la Mediterrània occidental hi ha diferents models festius relacionats amb la figura del “moro”. Les festes meridionals valencianes de moros i cristians\, l’entramoro i las relaciones de les comarques de la Plana d’Utiel i els Serrans\, els balls amb parlaments que s’estenen pel nord castellonenc\, l’Aragó i la Catalunya Nova\, les morisques i les llegendes dramatitzades del Pirineu\, els simulacres de batalles i els balls de moretons de Mallorca són les principals famílies festives. A més\, bé per les festes de Corpus o bé per les festes majors d’arreu del territori catalanoparlant\, des de Perpinyà fins a Guardamar i des de Fraga fins a l’Alguer\, la presència de dansaires\, cavallets\, gegants i nans vestits a la turca és extensa. L’exposició Ballar el moro explica la mescla d’elements polítics\, religiosos\, toponímics\, ètnics\, socials i culturals que ha confluït en un ventall d’imatges al·legòriques sobre el moro que oscil·len entre la realitat i la llegenda\, entre la maurofòbia i la maurofília\, entre la història i el mite… Aquesta mostra és un viatge a la història\, la mítica i el folklore que envolta l’univers festiu de moros i cristians. \nBallar el Moro és una producció del Museu Etnològic de Barcelona i l’ Associació Cultural Joan Amades\, en col·laboració amb el Departament de Filologia Catalana de la Universitat Rovira i Virgili de Tarragona\, Diputació de Tarragona. Amb el suport de Cases de la Festa \, Ajuntament de Barcelona.\nComissariat\, investigació i textos: Raül Sanchis Francés.
URL:https://octubre.cat/activitat/ballar-el-moro/
LOCATION:Hall
CATEGORIES:Exposicions
ATTACH;FMTTYPE=image/jpeg:https://octubre.cat/www/wp-content/uploads/2020/07/activitat2307.jpg
END:VEVENT
END:VCALENDAR