BEGIN:VCALENDAR
VERSION:2.0
PRODID:-//Octubre Centre de Cultura Contemporània - ECPv5.1.6//NONSGML v1.0//EN
CALSCALE:GREGORIAN
METHOD:PUBLISH
X-WR-CALNAME:Octubre Centre de Cultura Contemporània
X-ORIGINAL-URL:https://octubre.cat
X-WR-CALDESC:Events for Octubre Centre de Cultura Contemporània
BEGIN:VTIMEZONE
TZID:Europe/Andorra
BEGIN:DAYLIGHT
TZOFFSETFROM:+0100
TZOFFSETTO:+0200
TZNAME:CEST
DTSTART:20190331T010000
END:DAYLIGHT
BEGIN:STANDARD
TZOFFSETFROM:+0200
TZOFFSETTO:+0100
TZNAME:CET
DTSTART:20191027T010000
END:STANDARD
END:VTIMEZONE
BEGIN:VEVENT
DTSTART;TZID=Europe/Andorra:20190621T203000
DTEND;TZID=Europe/Andorra:20190621T203000
DTSTAMP:20260421T072207
CREATED:20200729T173339Z
LAST-MODIFIED:20231108T163929Z
UID:11407-1561149000-1561149000@octubre.cat
SUMMARY:Audition: Tony el Gitano
DESCRIPTION:Divendres 21 de juny a les 20.30h. Cicle “Els primers discjòqueis de València”. Entrada lliure fins completar l’aforament.	 \n  \n  \n\n 	 Toni Vidal Batiste\, més conegut com Tony el Gitano\, va ser un dels discjòqueis pioners de la nit valenciana en la dècada dels anys 1980. Mànager de diverses formacions\, promotor de concerts i previ pas per algunes sales (com Hiedra de Montserrat) va ser quan es va fer càrrec de la discoteca Chocolate de Sueca que la va transformar en la “catedral de la música” i va contribuir com pocs al naixement d’un moviment de gran intensitat creativa que va transformar completament València.  — Organitzat per Audition i Spektra FM amb la col·laboració de Bodegues Arráez\, Vicious Radio i l’Octubre CCC.
URL:https://octubre.cat/activitat/audition-tony-el-gitano/
LOCATION:Sala d’actes
CATEGORIES:Audition
ATTACH;FMTTYPE=image/jpeg:https://octubre.cat/www/wp-content/uploads/2020/07/activitat3252.jpg
END:VEVENT
END:VCALENDAR