BEGIN:VCALENDAR
VERSION:2.0
PRODID:-//Octubre Centre de Cultura Contemporània - ECPv5.1.6//NONSGML v1.0//EN
CALSCALE:GREGORIAN
METHOD:PUBLISH
X-WR-CALNAME:Octubre Centre de Cultura Contemporània
X-ORIGINAL-URL:https://octubre.cat
X-WR-CALDESC:Events for Octubre Centre de Cultura Contemporània
BEGIN:VTIMEZONE
TZID:Europe/Andorra
BEGIN:DAYLIGHT
TZOFFSETFROM:+0100
TZOFFSETTO:+0200
TZNAME:CEST
DTSTART:20190331T010000
END:DAYLIGHT
BEGIN:STANDARD
TZOFFSETFROM:+0200
TZOFFSETTO:+0100
TZNAME:CET
DTSTART:20191027T010000
END:STANDARD
END:VTIMEZONE
BEGIN:VEVENT
DTSTART;TZID=Europe/Andorra:20190222T000000
DTEND;TZID=Europe/Andorra:20190222T000000
DTSTAMP:20260421T151822
CREATED:20200729T173307Z
LAST-MODIFIED:20200824T182418Z
UID:11373-1550793600-1550793600@octubre.cat
SUMMARY:Audition: els primers discjòqueis de València
DESCRIPTION:Nou cicle Audition “Els primers discjòqueis de València”\, el darrer divendres de cada mes. \n \n\nAudition comença el 2019 amb energia renovada i amb ganes de seguir endavant aportant el seu granet de sorra a la cultura musical\, després de cinc anys en actiu. Ara\, Audition i Spektra FM uneixen forces per realitzar un cicle de 5 audicions sota el lema “Els Primers Dj’s de València” a l’Octubre CCC i amb el patrocini de Bodegues Arráez i el seu techno vi Hu-Ha. Serà un homenatge a aquesta època daurada de València quan\, gràcies als discjòqueis d’algunes de les millors sales\, aquestes es van convertir en llegenda i van aconseguir situar València com a la capital de la música a Europa.
URL:https://octubre.cat/activitat/audition-els-primers-discjoqueis-de-valencia/
LOCATION:No definit
CATEGORIES:Música
ATTACH;FMTTYPE=image/jpeg:https://octubre.cat/www/wp-content/uploads/2020/07/activitat3218.jpg
END:VEVENT
END:VCALENDAR