BEGIN:VCALENDAR
VERSION:2.0
PRODID:-//Octubre Centre de Cultura Contemporània - ECPv5.1.6//NONSGML v1.0//EN
CALSCALE:GREGORIAN
METHOD:PUBLISH
X-WR-CALNAME:Octubre Centre de Cultura Contemporània
X-ORIGINAL-URL:https://octubre.cat
X-WR-CALDESC:Events for Octubre Centre de Cultura Contemporània
BEGIN:VTIMEZONE
TZID:Europe/Andorra
BEGIN:DAYLIGHT
TZOFFSETFROM:+0100
TZOFFSETTO:+0200
TZNAME:CEST
DTSTART:20150329T010000
END:DAYLIGHT
BEGIN:STANDARD
TZOFFSETFROM:+0200
TZOFFSETTO:+0100
TZNAME:CET
DTSTART:20151025T010000
END:STANDARD
END:VTIMEZONE
BEGIN:VEVENT
DTSTART;TZID=Europe/Andorra:20150328T190000
DTEND;TZID=Europe/Andorra:20150328T190000
DTSTAMP:20260421T203216
CREATED:20200729T171018Z
LAST-MODIFIED:20231108T163238Z
UID:10133-1427569200-1427569200@octubre.cat
SUMMARY:'Audition #05' amb AFFKT
DESCRIPTION:Dissabte 28 de març a les 19.00h. Nova edició de les audicions guiades\, en aquesta ocasió amb AFFKT (Sincopat). Entrada per invitació  \n  \n  \n\n Audition segueix el seu cicle d’audicions guiades i arriba a la cinquena edició amb AFFKT (Sincopat). En les sessions d’Auditiom tractem de donar respostes a les inquietuds dels djs que amb la seua trajectòria ens han influït en la forma d’entendre i d’estimar la música. Com arribà a a aquell disc que li marcà un abans i un després en la seua carrera? Quina és la vertadera història darrere la producció d’un track? Que és el que fa especial un disc en particular?. Aquestes són algunes de les qüestions que abordarem amb el nostre cinqué artista convidat\, AFFKT\, propietari del segell Sincopat i de l’estudi de so Pobla.  AFFKT és el nom artístic de Marc Martínez Nadal. Sense que li calga agredir al classicisme o al ja acreditat\, a través de la composició i l’experimentació sonora\, AFFKT accedeix a espais inèdits\, sintètics i orgànics en els qual la música troba noves vies d’expressió en les pistes de ball i els seus confins. Ha editat en segells com Kling Klong\, Rekids\, Buzzin Fly\, Mobilee\, Noir Musci\, CR2\, Suara i\, per suposat\, a Sincopat.  Entrada per invitació: més informació  Organitzat per Audition amb a col·laboració de l’Octubre CCC
URL:https://octubre.cat/activitat/audition-05-amb-affkt/
LOCATION:Sala d’actes
CATEGORIES:Audition
ATTACH;FMTTYPE=image/jpeg:https://octubre.cat/www/wp-content/uploads/2020/07/activitat2304.jpg
END:VEVENT
END:VCALENDAR