BEGIN:VCALENDAR
VERSION:2.0
PRODID:-//Octubre Centre de Cultura Contemporània - ECPv5.1.6//NONSGML v1.0//EN
CALSCALE:GREGORIAN
METHOD:PUBLISH
X-WR-CALNAME:Octubre Centre de Cultura Contemporània
X-ORIGINAL-URL:https://octubre.cat
X-WR-CALDESC:Events for Octubre Centre de Cultura Contemporània
BEGIN:VTIMEZONE
TZID:Europe/Andorra
BEGIN:DAYLIGHT
TZOFFSETFROM:+0100
TZOFFSETTO:+0200
TZNAME:CEST
DTSTART:20110327T010000
END:DAYLIGHT
BEGIN:STANDARD
TZOFFSETFROM:+0200
TZOFFSETTO:+0100
TZNAME:CET
DTSTART:20111030T010000
END:STANDARD
END:VTIMEZONE
BEGIN:VEVENT
DTSTART;TZID=Europe/Andorra:20111028T211500
DTEND;TZID=Europe/Andorra:20111028T211500
DTSTAMP:20260420T230751
CREATED:20200729T165626Z
LAST-MODIFIED:20251228T170109Z
UID:9289-1319836500-1319836500@octubre.cat
SUMMARY:Atomic Spy per Nad Spiro
DESCRIPTION:Acte de cloenda del simposi Spectra \nPresentació del treball Atomic Spy\, proper disc de Nad Spiro\, una espia sònica afincada a Barcelona que va formar part de formacions com Psicópatas del Norte\, Tendre Tembles\, Mochochemie\, etc. Després de publicar vs. Enemigos de Helix\, Fightclubbing i Tinta Invisible\, presenta en primícia material del seu proper treball\, Atomic Spy\, la imatge del qual serà l’obra del gran Josep Renau “La pau és amb ells”. Nad Spiro: un soundtrack ple de missatges xifrats i guitarres com metralletes. \nEntrada lliure
URL:https://octubre.cat/activitat/atomic-spy-per-nad-spiro/
LOCATION:No definit
CATEGORIES:Premis Octubre,Spectra
ATTACH;FMTTYPE=image/jpeg:https://octubre.cat/www/wp-content/uploads/2020/07/activitat1521.jpg
END:VEVENT
END:VCALENDAR