BEGIN:VCALENDAR
VERSION:2.0
PRODID:-//Octubre Centre de Cultura Contemporània - ECPv5.1.6//NONSGML v1.0//EN
CALSCALE:GREGORIAN
METHOD:PUBLISH
X-WR-CALNAME:Octubre Centre de Cultura Contemporània
X-ORIGINAL-URL:https://octubre.cat
X-WR-CALDESC:Events for Octubre Centre de Cultura Contemporània
BEGIN:VTIMEZONE
TZID:Europe/Andorra
BEGIN:DAYLIGHT
TZOFFSETFROM:+0100
TZOFFSETTO:+0200
TZNAME:CEST
DTSTART:20090329T010000
END:DAYLIGHT
BEGIN:STANDARD
TZOFFSETFROM:+0200
TZOFFSETTO:+0100
TZNAME:CET
DTSTART:20091025T010000
END:STANDARD
END:VTIMEZONE
BEGIN:VEVENT
DTSTART;TZID=Europe/Andorra:20091113T200000
DTEND;TZID=Europe/Andorra:20091113T200000
DTSTAMP:20260420T175131
CREATED:20200729T182644Z
LAST-MODIFIED:20200729T182644Z
UID:12950-1258142400-1258142400@octubre.cat
SUMMARY:Asstrio
DESCRIPTION:Divendres 13 de novembre\, a les 20.00h: “Octubre en funk”. Asstrio (Barcelona).   \n  \n  \n\nEn un món on la multiculturalitat està a l’ordre del dia i la barreja d’estil i tendències sembla una obligació\, resulta difícil trobar propostes que surten de l’habitual. No obstant\, la música d’Asstrio n’és una.   Van començar com a banda típica de jazz groove amb orgue Hammond\, guitarra i bateria\, com es pot escoltar en el seu àlbum de debut As soon as possible (Errabal 2004). A poc a poc\, el grup va incorporar elements de diversa índole que fan que resulte complex encasellar la seua música. Aquest component sorpresiu és el que propicia que en un mateix any puguen tocar en festivals de música tan diferents com el Sònar\, Senglar Rock\, Jazz Terrassa o Cruïlla de Cultures.   El seu so és\, clarament\, producte de la fructífera carrera de cadascun dels seus membres\, que han treballat per a grups de rock (La Kinky Beat\, Brams\, Gossos\, Pep Sala)\, funk (Phat Fred\, Fundación Tony Manero)\, electrònica (Professor Angel Dust o Danny Márquez) o jazz (Raynald Colom Quartet o Santi Careta Grup).   El seu bagatge en directe és el que fa d’Asstrio un grup que la gent recorda. Perquè sempre\, en acabar les seues actuacions\, el comentari generalitzat sol ser “No és el que m’esperava. Això és diferent”. A més\, han estat reconeguts amb el premi Millor Grup de Jazz 2008\, que atorga la revista Jaç-Enderrock.
URL:https://octubre.cat/activitat/asstrio/
LOCATION:No definit
CATEGORIES:Cicle de música pop
ATTACH;FMTTYPE=image/jpeg:https://octubre.cat/www/wp-content/uploads/2020/07/activitat984.jpg
END:VEVENT
END:VCALENDAR