BEGIN:VCALENDAR
VERSION:2.0
PRODID:-//Octubre Centre de Cultura Contemporània - ECPv5.1.6//NONSGML v1.0//EN
CALSCALE:GREGORIAN
METHOD:PUBLISH
X-WR-CALNAME:Octubre Centre de Cultura Contemporània
X-ORIGINAL-URL:https://octubre.cat
X-WR-CALDESC:Events for Octubre Centre de Cultura Contemporània
BEGIN:VTIMEZONE
TZID:Europe/Andorra
BEGIN:DAYLIGHT
TZOFFSETFROM:+0100
TZOFFSETTO:+0200
TZNAME:CEST
DTSTART:20190331T010000
END:DAYLIGHT
BEGIN:STANDARD
TZOFFSETFROM:+0200
TZOFFSETTO:+0100
TZNAME:CET
DTSTART:20191027T010000
END:STANDARD
END:VTIMEZONE
BEGIN:VEVENT
DTSTART;TZID=Europe/Andorra:20190209T120000
DTEND;TZID=Europe/Andorra:20190209T120000
DTSTAMP:20260421T193700
CREATED:20200729T173255Z
LAST-MODIFIED:20200729T191038Z
UID:11361-1549713600-1549713600@octubre.cat
SUMMARY:Assemblea de Lectors de VilaWeb
DESCRIPTION:Dissabte 9 de febrer a les 12.00h.	 \n  \n  \n\n 	 L’Assemblea de Lectors de VilaWeb és una trobada anual on els subscriptors i altres lectors poden parlar directament amb la direcció del diari durant dues hores. En les Assemblees VilaWeb explica la seva situació actual i els projectes immediats de futur\, que són discutits de manera pública. La direcció de VilaWeb escolta també els comentaris\, les crítiques i les suggerències que els lectors poden fer i posteriorment es fa un col·loqui obert sobre la situació política del país\, sobre el paper dels mitjans de comunicació o sobre les qüestions que els lectors vulguin plantejar. En les assemblees participen diversos membres de la redacció de VilaWeb.
URL:https://octubre.cat/activitat/assemblea-de-lectors-de-vilaweb/
LOCATION:Sala d’actes
CATEGORIES:Literatura
ATTACH;FMTTYPE=image/jpeg:https://octubre.cat/www/wp-content/uploads/2020/07/activitat3206.jpg
END:VEVENT
END:VCALENDAR