BEGIN:VCALENDAR
VERSION:2.0
PRODID:-//Octubre Centre de Cultura Contemporània - ECPv5.1.6//NONSGML v1.0//EN
CALSCALE:GREGORIAN
METHOD:PUBLISH
X-WR-CALNAME:Octubre Centre de Cultura Contemporània
X-ORIGINAL-URL:https://octubre.cat
X-WR-CALDESC:Events for Octubre Centre de Cultura Contemporània
BEGIN:VTIMEZONE
TZID:Europe/Andorra
BEGIN:DAYLIGHT
TZOFFSETFROM:+0100
TZOFFSETTO:+0200
TZNAME:CEST
DTSTART:20250330T010000
END:DAYLIGHT
BEGIN:STANDARD
TZOFFSETFROM:+0200
TZOFFSETTO:+0100
TZNAME:CET
DTSTART:20251026T010000
END:STANDARD
END:VTIMEZONE
BEGIN:VEVENT
DTSTART;TZID=Europe/Andorra:20250607T120000
DTEND;TZID=Europe/Andorra:20250607T120000
DTSTAMP:20260420T231020
CREATED:20250530T084215Z
LAST-MODIFIED:20250530T084637Z
UID:22853-1749297600-1749297600@octubre.cat
SUMMARY:Assemblea de lectors de VilaWeb i presentació de Tres dies d’agost
DESCRIPTION:Enguany que el diari VilaWeb fa trenta anys\, la trobada anual amb els lectors serà especial. Les activitats començaran a les 11.00 amb una visita a l’exposició commemorativa\, a l’edifici de l’Octubre mateix. La sessió serà conduïda pel director del diari\, Vicent Partal\, que l’explicarà als assistents. \nA les 12.00 començarà l’assemblea de lectors\, un espai de trobada dels subscriptors amb els responsables del diari\, on s’explicarà el procés de relleu generacional que ha engegat VilaWeb i pel qual Txell Partal ha assumit el paper d’editora\, un càrrec que havia tingut Assumpció Maresma d’ençà de la fundació. \nLa jornada s’acabarà amb la presentació del llibre Tres dies d’agost\, de Josep Nualart Casulleras\, a les 13.00. És el primer títol dels “Llibres de VilaWeb”\, la nova col·lecció de llibres periodístics\, que s’ha estrenat tot coincidint amb la celebració dels trenta anys del diari. \n—\nOrganitzat per VilaWeb amb la col·laboració de l’Octubre CCC
URL:https://octubre.cat/activitat/assemblea-de-lectors-de-vilaweb-i-presentacio-de-tres-dies-dagost/
LOCATION:Sala d’actes
CATEGORIES:Conferències i congressos,Exposicions
ATTACH;FMTTYPE=image/jpeg:https://octubre.cat/www/wp-content/uploads/2025/05/VILAWEB-assembleaPV-2022_FotoPRATSiCAMPS-12-02221201.jpeg
END:VEVENT
END:VCALENDAR