BEGIN:VCALENDAR
VERSION:2.0
PRODID:-//Octubre Centre de Cultura Contemporània - ECPv5.1.6//NONSGML v1.0//EN
CALSCALE:GREGORIAN
METHOD:PUBLISH
X-WR-CALNAME:Octubre Centre de Cultura Contemporània
X-ORIGINAL-URL:https://octubre.cat
X-WR-CALDESC:Events for Octubre Centre de Cultura Contemporània
BEGIN:VTIMEZONE
TZID:Europe/Andorra
BEGIN:DAYLIGHT
TZOFFSETFROM:+0100
TZOFFSETTO:+0200
TZNAME:CEST
DTSTART:20220327T010000
END:DAYLIGHT
BEGIN:STANDARD
TZOFFSETFROM:+0200
TZOFFSETTO:+0100
TZNAME:CET
DTSTART:20221030T010000
END:STANDARD
END:VTIMEZONE
BEGIN:VEVENT
DTSTART;TZID=Europe/Andorra:20221102T190000
DTEND;TZID=Europe/Andorra:20221102T190000
DTSTAMP:20260420T192004
CREATED:20221025T144848Z
LAST-MODIFIED:20221025T144848Z
UID:18930-1667415600-1667415600@octubre.cat
SUMMARY:Assemblea de Lectors de Vilaweb
DESCRIPTION:VilaWeb convoca les Assemblees de Lectors del 2022 a València\, Palma i Perpinyà –la de Barcelona ja es va fer a començament d’any. \nLes Assemblees de Lectors són reunions en què el director i més membres de la redacció presenten les novetats de l’any\, expliquen l’estat del projecte i se sotmeten a les preguntes dels lectors que hi participen. \nLa participació en les assemblees és lliure\, però per poder organitzar més bé les sessions us agrairem que ens digueu si voleu participar-hi enviant un correu a inscripcions@vilaweb.cat.
URL:https://octubre.cat/activitat/assemblea-de-lectors-de-vilaweb-2/
LOCATION:Hall
CATEGORIES:Conferències i congressos
ATTACH;FMTTYPE=image/jpeg:https://octubre.cat/www/wp-content/uploads/2022/10/VILAWEB-Valencia-2021_FotoPRATSiCAMPS-9-06221711-1024x683-1.jpg
END:VEVENT
END:VCALENDAR