BEGIN:VCALENDAR
VERSION:2.0
PRODID:-//Octubre Centre de Cultura Contemporània - ECPv5.1.6//NONSGML v1.0//EN
CALSCALE:GREGORIAN
METHOD:PUBLISH
X-WR-CALNAME:Octubre Centre de Cultura Contemporània
X-ORIGINAL-URL:https://octubre.cat
X-WR-CALDESC:Events for Octubre Centre de Cultura Contemporània
BEGIN:VTIMEZONE
TZID:Europe/Andorra
BEGIN:DAYLIGHT
TZOFFSETFROM:+0100
TZOFFSETTO:+0200
TZNAME:CEST
DTSTART:20170326T010000
END:DAYLIGHT
BEGIN:STANDARD
TZOFFSETFROM:+0200
TZOFFSETTO:+0100
TZNAME:CET
DTSTART:20171029T010000
END:STANDARD
END:VTIMEZONE
BEGIN:VEVENT
DTSTART;TZID=Europe/Andorra:20171125T120000
DTEND;TZID=Europe/Andorra:20171125T120000
DTSTAMP:20260422T053920
CREATED:20200729T190219Z
LAST-MODIFIED:20200729T190219Z
UID:13286-1511611200-1511611200@octubre.cat
SUMMARY:Artistes\, públic ...i vi
DESCRIPTION:Dissabte 25 de novembre a les 12.00h. Trobada amb els artistes que participen en l’exposició “Ciutat Vella Oberta 2017” de l’Octubre CCC. Entrada lliure.  \n  \n  \n\n Una vegada passada la ressaca del festival Ciutat Vella Oberta\, molts dels artistes que han participat en l’exposició actual de l’Octubre CCC faran un trobada amb el seu públic el dissabte 25 de novembre a les 12.00h.   Es visitarà l’exposició\, es comentaran les obres\, ens coneixerem els uns i els altres en un ambient distès… i tastarem els vins de Bodegas Enguera (D.O. València\, amb vinyes a Énguera i a Fontanars dels Alforins)\, el maridatge perfecte per a l’art!!
URL:https://octubre.cat/activitat/artistes-public-i-vi/
LOCATION:Sala d’exposicions
CATEGORIES:Literatura
ATTACH;FMTTYPE=image/jpeg:https://octubre.cat/www/wp-content/uploads/2020/07/activitat2925.jpg
END:VEVENT
END:VCALENDAR