BEGIN:VCALENDAR
VERSION:2.0
PRODID:-//Octubre Centre de Cultura Contemporània - ECPv5.1.6//NONSGML v1.0//EN
CALSCALE:GREGORIAN
METHOD:PUBLISH
X-WR-CALNAME:Octubre Centre de Cultura Contemporània
X-ORIGINAL-URL:https://octubre.cat
X-WR-CALDESC:Events for Octubre Centre de Cultura Contemporània
BEGIN:VTIMEZONE
TZID:Europe/Andorra
BEGIN:DAYLIGHT
TZOFFSETFROM:+0100
TZOFFSETTO:+0200
TZNAME:CEST
DTSTART:20170326T010000
END:DAYLIGHT
BEGIN:STANDARD
TZOFFSETFROM:+0200
TZOFFSETTO:+0100
TZNAME:CET
DTSTART:20171029T010000
END:STANDARD
BEGIN:DAYLIGHT
TZOFFSETFROM:+0100
TZOFFSETTO:+0200
TZNAME:CEST
DTSTART:20180325T010000
END:DAYLIGHT
BEGIN:STANDARD
TZOFFSETFROM:+0200
TZOFFSETTO:+0100
TZNAME:CET
DTSTART:20181028T010000
END:STANDARD
END:VTIMEZONE
BEGIN:VEVENT
DTSTART;TZID=Europe/Andorra:20171220T000000
DTEND;TZID=Europe/Andorra:20180120T000000
DTSTAMP:20260421T090456
CREATED:20200729T190231Z
LAST-MODIFIED:20200904T162202Z
UID:13298-1513728000-1516406400@octubre.cat
SUMMARY:'Artistes i poetes. Tribut a Joan Valls'
DESCRIPTION:Inauguració: dimecres 20 de desembre de 2017 a les 19.30h. \nEn el centenari del naixement del poeta Joan Valls (Alcoi\, 1917-1989). \nEl recorregut expositiu arreplega els escrits de 28 escriptors i les imatges de 28 artistes\, tots ells fent referència a la vida i obra de l’històric poeta alcoià. Entre ells: Roc Candela\, Jordi Botella\, Eduard Corbí\, Antoni Miró\, Dori Cantó\, Ximo Canet\, Lucía Romero\, María Pastor Molina\, Manolo Arjona\, Irene Sempere\, etc. \nAcí es pot descarregar el catàleg en pdf. \nLa mostra s’ha pogut veure prèviament al Centre Cultural Mario Silvestre d’Alcoi i al Museu Universitari d’Alacant. \nComissari: José Luis Antequera.\nCol·laboren: Ajuntament d’Alcoi\, Fundació Sabadell i Càtedra Antoni Miró d’Art Contemporani de la Universitat d’Alacant.
URL:https://octubre.cat/activitat/artistes-i-poetes-tribut-a-joan-valls/
LOCATION:Sala d’exposicions
CATEGORIES:Exposicions
ATTACH;FMTTYPE=image/jpeg:https://octubre.cat/www/wp-content/uploads/2020/07/activitat2937.jpg
END:VEVENT
END:VCALENDAR