BEGIN:VCALENDAR
VERSION:2.0
PRODID:-//Octubre Centre de Cultura Contemporània - ECPv5.1.6//NONSGML v1.0//EN
CALSCALE:GREGORIAN
METHOD:PUBLISH
X-WR-CALNAME:Octubre Centre de Cultura Contemporània
X-ORIGINAL-URL:https://octubre.cat
X-WR-CALDESC:Events for Octubre Centre de Cultura Contemporània
BEGIN:VTIMEZONE
TZID:Europe/Andorra
BEGIN:DAYLIGHT
TZOFFSETFROM:+0100
TZOFFSETTO:+0200
TZNAME:CEST
DTSTART:20080330T010000
END:DAYLIGHT
BEGIN:STANDARD
TZOFFSETFROM:+0200
TZOFFSETTO:+0100
TZNAME:CET
DTSTART:20081026T010000
END:STANDARD
END:VTIMEZONE
BEGIN:VEVENT
DTSTART;TZID=Europe/Andorra:20080220T000000
DTEND;TZID=Europe/Andorra:20080406T000000
DTSTAMP:20260420T170124
CREATED:20200729T181736Z
LAST-MODIFIED:20200828T150834Z
UID:12498-1203465600-1207440000@octubre.cat
SUMMARY:Art a la tipografia i tipografia a l’art
DESCRIPTION:Aquesta exposició és dual. D’una banda\, amb L’Art a la tipografia s’al·ludeix a la qualitat estètica d’una petitíssima part dels 50.000 tipus dissenyats poc més o menys fins avui des de l’invenció de la impremta. D’altra banda\, la Tipografia a l’art denota simplement l’interès que molts artistes del segle xx han sentit per les lletres d’impremta\, pintades en obres que ara són part de la història de l’art modern i contemporani. Així\, el goig de contemplar aquesta bellesa plàstica es complementa amb la fruïció de creacions\, models i prototips fins i tot cinc-centenaris\, producte de l’evolució feta per gravadors\, impressors i dissenyadors\, des del 1450 fins els nostres dies. Tot i que la tipografia esdevé als ulls de tothom pràcticament invisible\, qualsevulga d’aquestes lletres reuneix propietats estètiques especials\, tal i com aprecià l’eminent arquitecte Peter Behrens: «el tipus és un dels més el·loqüents mitjans d’expressió de cada època o estil. Proper a l’arquitectura\, proporciona el retrat més característic d’un periode i el testimoni més sever del nivell intel·lectual d’un país.» \nComissari: Enric Satué\nUna producció de l’Octubre CCC amb la col·laboració de la Biblioteca Nacional
URL:https://octubre.cat/activitat/art-a-la-tipografia-i-tipografia-a-lart/
LOCATION:Sala d’exposicions
CATEGORIES:Exposicions
ATTACH;FMTTYPE=image/jpeg:https://octubre.cat/www/wp-content/uploads/2020/07/satu.jpg
END:VEVENT
END:VCALENDAR