BEGIN:VCALENDAR
VERSION:2.0
PRODID:-//Octubre Centre de Cultura Contemporània - ECPv5.1.6//NONSGML v1.0//EN
CALSCALE:GREGORIAN
METHOD:PUBLISH
X-WR-CALNAME:Octubre Centre de Cultura Contemporània
X-ORIGINAL-URL:https://octubre.cat
X-WR-CALDESC:Events for Octubre Centre de Cultura Contemporània
BEGIN:VTIMEZONE
TZID:Europe/Andorra
BEGIN:DAYLIGHT
TZOFFSETFROM:+0100
TZOFFSETTO:+0200
TZNAME:CEST
DTSTART:20070325T010000
END:DAYLIGHT
BEGIN:STANDARD
TZOFFSETFROM:+0200
TZOFFSETTO:+0100
TZNAME:CET
DTSTART:20071028T010000
END:STANDARD
END:VTIMEZONE
BEGIN:VEVENT
DTSTART;TZID=Europe/Andorra:20070920T000000
DTEND;TZID=Europe/Andorra:20070920T000000
DTSTAMP:20260420T230639
CREATED:20200729T181512Z
LAST-MODIFIED:20251206T224859Z
UID:12360-1190246400-1190246400@octubre.cat
SUMMARY:Aroah
DESCRIPTION:Presentació oficial el 20 de setembre a València del tercer disc de la cantautora anomenat “El día después”. \nEn aquest CD\, la cantant  ha treballat amb el català Raül Fernández (Refree) i els resultats són evidents: un so ric i matisat\, melodies vives i instrumentació inspirada en el pop clàssic\, per pujar un esglaó més en la seua carrera. Sentit i sensibilitat en un repertori que mai nos’esgota.
URL:https://octubre.cat/activitat/aroah/
LOCATION:No definit
CATEGORIES:Cicle de música pop
ATTACH;FMTTYPE=image/jpeg:https://octubre.cat/www/wp-content/uploads/2020/07/musica1.jpg
END:VEVENT
END:VCALENDAR