BEGIN:VCALENDAR
VERSION:2.0
PRODID:-//Octubre Centre de Cultura Contemporània - ECPv5.1.6//NONSGML v1.0//EN
CALSCALE:GREGORIAN
METHOD:PUBLISH
X-WR-CALNAME:Octubre Centre de Cultura Contemporània
X-ORIGINAL-URL:https://octubre.cat
X-WR-CALDESC:Events for Octubre Centre de Cultura Contemporània
BEGIN:VTIMEZONE
TZID:Europe/Andorra
BEGIN:DAYLIGHT
TZOFFSETFROM:+0100
TZOFFSETTO:+0200
TZNAME:CEST
DTSTART:20130331T010000
END:DAYLIGHT
BEGIN:STANDARD
TZOFFSETFROM:+0200
TZOFFSETTO:+0100
TZNAME:CET
DTSTART:20131027T010000
END:STANDARD
END:VTIMEZONE
BEGIN:VEVENT
DTSTART;TZID=Europe/Andorra:20130215T193000
DTEND;TZID=Europe/Andorra:20130215T193000
DTSTAMP:20260421T212625
CREATED:20200729T165925Z
LAST-MODIFIED:20200729T184016Z
UID:9470-1360956600-1360956600@octubre.cat
SUMMARY:Apa presenta el disc 'Cants i cants'
DESCRIPTION:Divendres 15 de febrer a les 19.30h: el músic Josep Aparicio “Apa” presenta el seu nou disc “Cants i cants”  \n  \n  \n\n Presentació del disc Cants i cants (premi Ovidi Montllor 2011 al millor disc de musica folk)  Josep Aparicio “Apa” és\, sens dubte\, una de les millors veus tradicionals del nostre país\, amb una llarga trajectòria en el món del cant d’estil\, on ha esdevingut una referència indiscutible de les últimes dècades. La seua presència ha estat sol·licitada per col·laborar amb artistes com Al Tall\, Miquel Gil\, Lídia Pujol\, Jerez Texas o Sonadors de la Guaita.  Potència\, virtuosisme i versatilitat són els adjectius que millor defineixen la seua veu privilegiada. Quan Apa canta\, sempre hi ha aquell moment de genialitat\, aquell instant sublim\, aquell melisma extraordinari que fa eriçar la pell i que no es pot pagar amb tot l’or del món.  En els últims anys\, mogut per la seua inquietud\, ha iniciat una búsqueda de noves formes d’expressió (un exemple d’això fou el grup La Beniterrània) i ara ens presenta el seu nou projecte: APA. Amb un acompanyament instrumental que aporta sonoritats jazzístiques\, flamenques i clàssiques\, APA aborda lletres pròpies\, tradicionals i de poetes valencians\, interpretades a ritme de buleries\, jota i fandango\, malaguenyes\, cants de treball\, cant d’estil\, havaneres…  FORMACIÓ:  Josep Aparicio “Apa” (veu)  Ricardo Esteve (guitarra flamenca)  Jesús Gimeno (bateria)  Eduard Navarro (instruments tradicionals)  Entrada: 8 euros  Concert organitzat per Apa
URL:https://octubre.cat/activitat/apa-presenta-el-disc-cants-i-cants/
LOCATION:No definit
CATEGORIES:Música
ATTACH;FMTTYPE=image/jpeg:https://octubre.cat/www/wp-content/uploads/2020/07/activitat1720.jpg
END:VEVENT
END:VCALENDAR