BEGIN:VCALENDAR
VERSION:2.0
PRODID:-//Octubre Centre de Cultura Contemporània - ECPv5.1.6//NONSGML v1.0//EN
CALSCALE:GREGORIAN
METHOD:PUBLISH
X-WR-CALNAME:Octubre Centre de Cultura Contemporània
X-ORIGINAL-URL:https://octubre.cat
X-WR-CALDESC:Events for Octubre Centre de Cultura Contemporània
BEGIN:VTIMEZONE
TZID:Europe/Andorra
BEGIN:DAYLIGHT
TZOFFSETFROM:+0100
TZOFFSETTO:+0200
TZNAME:CEST
DTSTART:20190331T010000
END:DAYLIGHT
BEGIN:STANDARD
TZOFFSETFROM:+0200
TZOFFSETTO:+0100
TZNAME:CET
DTSTART:20191027T010000
END:STANDARD
END:VTIMEZONE
BEGIN:VEVENT
DTSTART;TZID=Europe/Andorra:20191118T000000
DTEND;TZID=Europe/Andorra:20191123T000000
DTSTAMP:20260425T163735
CREATED:20200729T173533Z
LAST-MODIFIED:20200729T191253Z
UID:11534-1574035200-1574467200@octubre.cat
SUMMARY:Any Joan Brossa
DESCRIPTION:Del 18 al 23 de novembrre. Des de l’Octubre CCC ens adherim a la celebració de l’Any Joan Brossa amb tot un seguit d’activitats organitzades per Acció Cultural del País Valencià\, l’Associació d’Escriptors en Llengua Catalana i el PEN Català amb la col·laboració de la Institució de les Lletres Catalanes\, la Fundació Joan Brossa i el Pla Valencià de Foment del Llibre i la Lectura de la Generalitat Valenciana.	 \n  \n  \n\n 	 Joan Brossa (Barcelona\, 1919-1998) fou un poeta en majúscules que entenia la creació poètica com quelcom que anava més enllà de qualsevol convencionalisme. La poesia era per a Brossa una eina al servei de la comunicació\, sense divisió de gèneres\, oberta\, transversal\, polièdrica. De forma autodidacta\, va beure de la tradició literària del país i es va nodrir de les tendències creatives europees per tal de crear un llenguatge\, un univers propi\, que el converteix en un dels màxims representants de la segona avantguarda catalana.    Extremadament actual en el discurs\, vitalista en la manera com afronta la vida\, Brossa és un poeta amb una producció ingent\, que va concebre l’acte poètic com un exercici necessari per a la condició humana. Amb Brossa penetrem en el món de l’inconegut per eixamplar els límits de l’expressió poètica.  Des de l’Octubre CCC ens adherim a la celebració de l’Any Joan Brossa amb tot un seguit d’activitats organitzades per Acció Cultural del País Valencià\, l’Associació d’Escriptors en Llengua Catalana i el PEN Català amb la col·laboració de la Institució de les Lletres Catalanes\, la Fundació Joan Brossa i el Pla Valencià de Foment del Llibre i la Lectura de la Generalitat Valenciana.
URL:https://octubre.cat/activitat/any-joan-brossa/
LOCATION:No definit
CATEGORIES:Conferències i congressos
ATTACH;FMTTYPE=image/png:https://octubre.cat/www/wp-content/uploads/2020/07/activitat3374.png
END:VEVENT
END:VCALENDAR