BEGIN:VCALENDAR
VERSION:2.0
PRODID:-//Octubre Centre de Cultura Contemporània - ECPv5.1.6//NONSGML v1.0//EN
CALSCALE:GREGORIAN
METHOD:PUBLISH
X-WR-CALNAME:Octubre Centre de Cultura Contemporània
X-ORIGINAL-URL:https://octubre.cat
X-WR-CALDESC:Events for Octubre Centre de Cultura Contemporània
BEGIN:VTIMEZONE
TZID:Europe/Andorra
BEGIN:DAYLIGHT
TZOFFSETFROM:+0100
TZOFFSETTO:+0200
TZNAME:CEST
DTSTART:20190331T010000
END:DAYLIGHT
BEGIN:STANDARD
TZOFFSETFROM:+0200
TZOFFSETTO:+0100
TZNAME:CET
DTSTART:20191027T010000
END:STANDARD
END:VTIMEZONE
BEGIN:VEVENT
DTSTART;TZID=Europe/Andorra:20190604T190000
DTEND;TZID=Europe/Andorra:20190604T190000
DTSTAMP:20260421T072619
CREATED:20200729T173318Z
LAST-MODIFIED:20200729T191057Z
UID:11385-1559674800-1559674800@octubre.cat
SUMMARY:"Any internacional de la taula periòdica": David G. Jara
DESCRIPTION:Dimarts 4 de juny a les 19.00h. Conferència “La transcendència d’allò minúscul”\, a càrrec de David G. Jara (Junta de Castella i Lleó\, premi Estudi General de Divulgació Científica 2018)\,  dins del cicle de conferències “Any internacional de la taula periòdica” de l’Espai Ciència.	 \n  \n  \n\n 	 Cicle de conferències “Any internacional de la taula periòdica”  Homenatge al carboni.  “La transcendència d’allò minúscul”\, a càrrec de David G. Jara\, Junta de Castella i Lleó\, premi Estudi General de Divulgació Científica 2018.  David González Jara (Àvila\, 1974) és llicenciat en Ciències Químiques i doctor en Bioquímica\, i té estudis de Ciències Ambientals. Actualment\, exerceix com a professor d’ESO en l’especialitat de Biologia i Geologia al CEO El Mirador de la Sierra de Villacastín\, encara que també ha treballat com a professor universitari i com a director del Departament de Ciències Experimentals de la Universitat Internacional de La Rioja. Des de fa més de cinc anys\, González Jara dedica part del seu temps a la divulgació científica. Ha publicat articles científics en revistes especialitzades i periòdics d’informació general com El País o Diario de Ávila\, així com diversos manuals universitaris sobre didàctica de les ciències experimentals.   — Una activitat de l’Espai Ciència de l’Octubre CCC amb la col·laboració de la Facultat de Química de la Universitat de València.
URL:https://octubre.cat/activitat/any-internacional-de-la-taula-periodica-david-g-jara/
CATEGORIES:Espai Ciència
ATTACH;FMTTYPE=image/jpeg:https://octubre.cat/www/wp-content/uploads/2020/07/activitat3229.jpg
END:VEVENT
END:VCALENDAR