BEGIN:VCALENDAR
VERSION:2.0
PRODID:-//Octubre Centre de Cultura Contemporània - ECPv5.1.6//NONSGML v1.0//EN
CALSCALE:GREGORIAN
METHOD:PUBLISH
X-WR-CALNAME:Octubre Centre de Cultura Contemporània
X-ORIGINAL-URL:https://octubre.cat
X-WR-CALDESC:Events for Octubre Centre de Cultura Contemporània
BEGIN:VTIMEZONE
TZID:Europe/Andorra
BEGIN:DAYLIGHT
TZOFFSETFROM:+0100
TZOFFSETTO:+0200
TZNAME:CEST
DTSTART:20090329T010000
END:DAYLIGHT
BEGIN:STANDARD
TZOFFSETFROM:+0200
TZOFFSETTO:+0100
TZNAME:CET
DTSTART:20091025T010000
END:STANDARD
END:VTIMEZONE
BEGIN:VEVENT
DTSTART;TZID=Europe/Andorra:20090218T190000
DTEND;TZID=Europe/Andorra:20090218T190000
DTSTAMP:20260420T160357
CREATED:20200730T035918Z
LAST-MODIFIED:20200730T035918Z
UID:14051-1234983600-1234983600@octubre.cat
SUMMARY:Any Darwin: conferència de Fernando González-Candelas
DESCRIPTION:Dimecres 18 de febrer\, a les 19.00h:  Conferència “L’evolució als tribunals: de l’arbre de la vida al cas Maeso”\, a càrrec de Fernando González-Candelas (Universitat de València)  \n  \n  \n\n“L’evolució als tribunals: de l’arbre de la vida al cas Maeso”  per Fernando González-Candelas  Departament de Genètica i Institut Cavanilles de Biodiversitat i Biologia Evolutiva\, Universitat de València\, Centre Superior d’Investigació en Salut Pública\, Generalitat Valenciana.  Darwin ara i ací: la vigència del llegat de Darwin Cicle de conferències de l’Espai Ciència 2009\, amb motiu de l’Any Darwin.
URL:https://octubre.cat/activitat/any-darwin-conferencia-de-fernando-gonzalez-candelas/
LOCATION:No definit
CATEGORIES:Espai Ciència
ATTACH;FMTTYPE=image/jpeg:https://octubre.cat/www/wp-content/uploads/2020/07/espaiciencia1.jpg
END:VEVENT
END:VCALENDAR