BEGIN:VCALENDAR
VERSION:2.0
PRODID:-//Octubre Centre de Cultura Contemporània - ECPv5.1.6//NONSGML v1.0//EN
CALSCALE:GREGORIAN
METHOD:PUBLISH
X-WR-CALNAME:Octubre Centre de Cultura Contemporània
X-ORIGINAL-URL:https://octubre.cat
X-WR-CALDESC:Events for Octubre Centre de Cultura Contemporània
BEGIN:VTIMEZONE
TZID:Europe/Andorra
BEGIN:DAYLIGHT
TZOFFSETFROM:+0100
TZOFFSETTO:+0200
TZNAME:CEST
DTSTART:20090329T010000
END:DAYLIGHT
BEGIN:STANDARD
TZOFFSETFROM:+0200
TZOFFSETTO:+0100
TZNAME:CET
DTSTART:20091025T010000
END:STANDARD
END:VTIMEZONE
BEGIN:VEVENT
DTSTART;TZID=Europe/Andorra:20090311T190000
DTEND;TZID=Europe/Andorra:20090311T190000
DTSTAMP:20260420T192143
CREATED:20200730T035920Z
LAST-MODIFIED:20200730T035920Z
UID:14052-1236798000-1236798000@octubre.cat
SUMMARY:Any Darwin: conferència de Cristian R. Altaba
DESCRIPTION:Dijous 12 de març a les 19.00h: Any Darwin. Conferència de Cristian R. Altaba (UIB): “Darwin per sobreviure: salvant les branques de l’arbre de la vida”  \n  \n  \n\n“Darwin per sobreviure: salvant les branques de l’arbre de la vida”  per Cristian R. Altaba Cap de Secció de Biodiversitat\, Conselleria de Medi Ambient\, Govern de les Illes Balears i Laboratori de Sistemàtica Humana\, Universitat de les Illes Balears.  Darwin ara i ací: la vigència del llegat de Darwin Cicle de conferències de l’Espai Ciència 2009\, amb motiu de l’Any Darwin.
URL:https://octubre.cat/activitat/any-darwin-conferencia-de-cristian-r-altaba/
LOCATION:No definit
CATEGORIES:Espai Ciència
ATTACH;FMTTYPE=image/jpeg:https://octubre.cat/www/wp-content/uploads/2020/07/espaiciencia1.jpg
END:VEVENT
END:VCALENDAR