BEGIN:VCALENDAR
VERSION:2.0
PRODID:-//Octubre Centre de Cultura Contemporània - ECPv5.1.6//NONSGML v1.0//EN
CALSCALE:GREGORIAN
METHOD:PUBLISH
X-WR-CALNAME:Octubre Centre de Cultura Contemporània
X-ORIGINAL-URL:https://octubre.cat
X-WR-CALDESC:Events for Octubre Centre de Cultura Contemporània
BEGIN:VTIMEZONE
TZID:Europe/Andorra
BEGIN:DAYLIGHT
TZOFFSETFROM:+0100
TZOFFSETTO:+0200
TZNAME:CEST
DTSTART:20170326T010000
END:DAYLIGHT
BEGIN:STANDARD
TZOFFSETFROM:+0200
TZOFFSETTO:+0100
TZNAME:CET
DTSTART:20171029T010000
END:STANDARD
END:VTIMEZONE
BEGIN:VEVENT
DTSTART;TZID=Europe/Andorra:20170914T000000
DTEND;TZID=Europe/Andorra:20170930T000000
DTSTAMP:20260421T132200
CREATED:20200729T172659Z
LAST-MODIFIED:20200729T185902Z
UID:11201-1505347200-1506729600@octubre.cat
SUMMARY:Any Bertrana
DESCRIPTION:Exposició “Prudenci Bertrana. L’ideari bàrbar” i “Aurora Bertrana. El virus de l’aventura”\, al hall\, del 14 al 30 de setembre.  \n  \n  \n\n Des de l’Octubre CCC ens sumem a la commemoració\, aquest 2017\, de l’Any Prudenci i Aurora Bertrana\, que organitzen la Institució de les Lletres Catalanes i la Comissió de Commemoracions del Departament de Presidència de la Generalitat de Catalunya amb la participació i col·laboració d’un gran nombre d’ajuntaments\, institucions acadèmiques\, museus\, centres culturals\, arxius i biblioteques.  Més enllà de la seva vinculació familiar\, Prudenci Bertrana i Compte (Tordera\, 1867 — Barcelona\, 1941) i la seva filla Aurora Bertrana i Salazar (Girona\, 1892 — Berga\, 1974) reflecteixen\, de manera complementària\, un enorme ventall d’aspectes de la cultura i la literatura catalanes del segle xx. El modernisme\, la genuïnitat de la vida rural contraposada a l’ofec de la ciutat\, la profusió de vocabulari extret de la parla viva i convertit en material literari\, el binomi pintura-literatura\, en Prudenci Bertrana; el cosmopolitisme\, la literatura de viatges\, la ruptura amb els motlles de gènere\, el binomi música-literatura\, en Aurora Bertrana són només alguns dels aspectes que la commemoració del cent-cinquantè aniversari del naixement del primer i el cent-vint-i-cinquè de la segona ens han de permetre explorar i aprofundir durant aquest Any Bertrana.  Les activitats que tindran lloc a l’Octubre CCC seran:  –La mostra “Prudenci Bertrana. L’ideari bàrbar” i “Aurora Bertrana. El virus de l’aventura”\, al hall\, del 14 al 30 de setembre.  –Dimecres 20 de setembre: 19.00h. Projecció del documental Prudenci Bertrana\, ànima impenitent\, una producció de l’Ajuntament de Tordera. (PROJECCIÓ AJORNADA)  –Dijous 5 d’octubre: 19.00h. Presentació de la unitat didàctica sobre Prudenci i Aurora Bertrana elaborada per la Secció d’Ensenyament d’Acció Cultural del País Valencià.  Totes les activitats són d’entrada lliure.
URL:https://octubre.cat/activitat/any-bertrana/
LOCATION:Hall
CATEGORIES:Exposicions
ATTACH;FMTTYPE=image/jpeg:https://octubre.cat/www/wp-content/uploads/2020/07/activitat2870.jpg
END:VEVENT
END:VCALENDAR