BEGIN:VCALENDAR
VERSION:2.0
PRODID:-//Octubre Centre de Cultura Contemporània - ECPv5.1.6//NONSGML v1.0//EN
CALSCALE:GREGORIAN
METHOD:PUBLISH
X-WR-CALNAME:Octubre Centre de Cultura Contemporània
X-ORIGINAL-URL:https://octubre.cat
X-WR-CALDESC:Events for Octubre Centre de Cultura Contemporània
BEGIN:VTIMEZONE
TZID:Europe/Andorra
BEGIN:DAYLIGHT
TZOFFSETFROM:+0100
TZOFFSETTO:+0200
TZNAME:CEST
DTSTART:20110327T010000
END:DAYLIGHT
BEGIN:STANDARD
TZOFFSETFROM:+0200
TZOFFSETTO:+0100
TZNAME:CET
DTSTART:20111030T010000
END:STANDARD
END:VTIMEZONE
BEGIN:VEVENT
DTSTART;TZID=Europe/Andorra:20110113T200000
DTEND;TZID=Europe/Andorra:20110113T200000
DTSTAMP:20260420T175136
CREATED:20200729T165327Z
LAST-MODIFIED:20200730T042655Z
UID:9105-1294948800-1294948800@octubre.cat
SUMMARY:Antorcha amable
DESCRIPTION:Dijous 13 de gener a les 20.00h: Nou cicle de pop sota el lema “Músiques mínimes”. El primer concert de la sèrie anirà a càrrec dels valencians Antorcha Amable.  \n  \n  \n\nDuet musical integrat pel violoncel i la veu\, que es completen amb instruments tradicionals\, joguets\, objectes reciclats i artefactes sonors inventats pel lutier electrònic Truna durant més de deu anys. El resultat sonor és un híbrid que fusiona melodia i soroll\, humans i màquines\, el popular i l’experimental… Tots els sons\, electrònics i acústics\, són emmagatzemats en directe mitjançant loops. I les peces van construint-se i transformant-se in situ. Intentar definir el so d’Antorcha Amable no és fàcil. Des de 2005 investiguen i experimenten\, a la busca d’un estil musical que han anomenat “fantàstic”. Tanmateix\, es pot dir que sonen com cabaret hipnòtic\, música de jungla\, atmosferes de l’espai\, exòtic futurista…
URL:https://octubre.cat/activitat/antorcha-amable/
LOCATION:No definit
CATEGORIES:Cicle de música pop
ATTACH;FMTTYPE=image/jpeg:https://octubre.cat/www/wp-content/uploads/2020/07/activitat1342.jpg
END:VEVENT
END:VCALENDAR