BEGIN:VCALENDAR
VERSION:2.0
PRODID:-//Octubre Centre de Cultura Contemporània - ECPv5.1.6//NONSGML v1.0//EN
CALSCALE:GREGORIAN
METHOD:PUBLISH
X-WR-CALNAME:Octubre Centre de Cultura Contemporània
X-ORIGINAL-URL:https://octubre.cat
X-WR-CALDESC:Events for Octubre Centre de Cultura Contemporània
BEGIN:VTIMEZONE
TZID:Europe/Andorra
BEGIN:DAYLIGHT
TZOFFSETFROM:+0100
TZOFFSETTO:+0200
TZNAME:CEST
DTSTART:20080330T010000
END:DAYLIGHT
BEGIN:STANDARD
TZOFFSETFROM:+0200
TZOFFSETTO:+0100
TZNAME:CET
DTSTART:20081026T010000
END:STANDARD
END:VTIMEZONE
BEGIN:VEVENT
DTSTART;TZID=Europe/Andorra:20080614T190000
DTEND;TZID=Europe/Andorra:20080614T190000
DTSTAMP:20260421T014824
CREATED:20200729T181909Z
LAST-MODIFIED:20200730T035747Z
UID:12589-1213470000-1213470000@octubre.cat
SUMMARY:Antorcha Amable (València) / Zaida Gómez i Julio Fernández Peláez (Vigo)
DESCRIPTION:Dissabte 14\, 19.00h Antorcha Amable (València) / Zaida Gómez i Julio Fernández Peláez (Vigo)   \n  \n  \n\nAntorcha Amable és un duo musical creat el 2005 que s’allunya de qualsevol classificació per estil o tendència musical\, ja que produeix un híbrid sonor que fusiona els aspectes més melòdics amb el ruidisme i l’experimentació.  Zaida Gómez i Julio Fernández són dos dels exponents més avançats de l’actual escena gallega. En les seues accios barregen la interpretació\, la poesia visual i l’experimentació.
URL:https://octubre.cat/activitat/antorcha-amable-valencia-zaida-gomez-i-julio-fernandez-pelaez-vigo/
LOCATION:No definit
CATEGORIES:Arrt d'Accció
ATTACH;FMTTYPE=image/jpeg:https://octubre.cat/www/wp-content/uploads/2020/07/arrtacccio1.jpg
END:VEVENT
END:VCALENDAR