BEGIN:VCALENDAR
VERSION:2.0
PRODID:-//Octubre Centre de Cultura Contemporània - ECPv5.1.6//NONSGML v1.0//EN
CALSCALE:GREGORIAN
METHOD:PUBLISH
X-WR-CALNAME:Octubre Centre de Cultura Contemporània
X-ORIGINAL-URL:https://octubre.cat
X-WR-CALDESC:Events for Octubre Centre de Cultura Contemporània
BEGIN:VTIMEZONE
TZID:Europe/Andorra
BEGIN:DAYLIGHT
TZOFFSETFROM:+0100
TZOFFSETTO:+0200
TZNAME:CEST
DTSTART:20120325T010000
END:DAYLIGHT
BEGIN:STANDARD
TZOFFSETFROM:+0200
TZOFFSETTO:+0100
TZNAME:CET
DTSTART:20121028T010000
END:STANDARD
END:VTIMEZONE
BEGIN:VEVENT
DTSTART;TZID=Europe/Andorra:20120426T193000
DTEND;TZID=Europe/Andorra:20120426T193000
DTSTAMP:20260421T032954
CREATED:20200729T165727Z
LAST-MODIFIED:20200730T042952Z
UID:9350-1335468600-1335468600@octubre.cat
SUMMARY:Antoni Prats i Tomàs Llopis
DESCRIPTION:Dijous 26 d’abril a les 19.30h: Antoni Prats i Tomàs Llopis. Lectura inclosa en “Poesia d’emergència”\, programa de presentació del festival Barcelona Poesia 2012.  \n  \n  \n\nAmb la participació d’Antoni Prats i Tomàs Llopis.  Lectura inclosa dins de Poesia d’emergència\, programa de presentació a València del XXVIII Festival Internacional de Poesia de Barcelona 2012.  Antoni Prats (Sueca\, 1946) viu a la Marina des que el 1971 començà a treballar a l’ensenyament secundari; darrerament\, com a catedràtic de Llengua i Literatura castellanes\, a l’IES Maria Ibars\, de Dénia\, ciutat en la que resideix des del 1975. És llicenciat en Filosofia (1969). El 1998 es doctora en Filologia Catalana amb una tesi sobre l’obra de Salvador Espriu. D’altra banda\, participa intensament en la vida cultural a través sobretot de l’Institut d’Estudis Comarcals de la Marina Alta.  Tomàs Llopis (Beniarbeig\, 1954) és catedràtic de llengua i literatura catalanes d’ensenyament secundari. Té obra publicada en les antologies 9 narradors de la Marina Alta (1990)\, Antologia poètica de la Marina Alta (1997)\, Antologia literària de la Marina Alta (2001)\, Nous relats on line (2001)\, Corona poètica valenciana a Jacint Verdaguer (2003)\, Poetes del Sud (2004)\, Jocs Florals a Cavanilles (2005)\, Homenatge a la Marina (2006) i 10 anys de Premi Iaraní (2009). Ha publicat llibres de text i articles sobre didàctica de la llengua\, estudis literaris sobre Enric Valor\, Bernat Capó\, Maria Ibars\, Rodríguez-Bernabeu i Lluís Alpera entre d’altres\, així com pròlegs diversos i crítica literària
URL:https://octubre.cat/activitat/antoni-prats-i-tomas-llopis/
LOCATION:No definit
CATEGORIES:Escriptors al terrat
ATTACH;FMTTYPE=image/jpeg:https://octubre.cat/www/wp-content/uploads/2020/07/activitat1593.jpg
END:VEVENT
END:VCALENDAR