BEGIN:VCALENDAR
VERSION:2.0
PRODID:-//Octubre Centre de Cultura Contemporània - ECPv5.1.6//NONSGML v1.0//EN
CALSCALE:GREGORIAN
METHOD:PUBLISH
X-WR-CALNAME:Octubre Centre de Cultura Contemporània
X-ORIGINAL-URL:https://octubre.cat
X-WR-CALDESC:Events for Octubre Centre de Cultura Contemporània
BEGIN:VTIMEZONE
TZID:Europe/Andorra
BEGIN:DAYLIGHT
TZOFFSETFROM:+0100
TZOFFSETTO:+0200
TZNAME:CEST
DTSTART:20160327T010000
END:DAYLIGHT
BEGIN:STANDARD
TZOFFSETFROM:+0200
TZOFFSETTO:+0100
TZNAME:CET
DTSTART:20161030T010000
END:STANDARD
END:VTIMEZONE
BEGIN:VEVENT
DTSTART;TZID=Europe/Andorra:20160301T190000
DTEND;TZID=Europe/Andorra:20160301T190000
DTSTAMP:20260421T165029
CREATED:20200729T171637Z
LAST-MODIFIED:20200729T185420Z
UID:10536-1456858800-1456858800@octubre.cat
SUMMARY:Anna Lluch
DESCRIPTION:Dimarts 1 de març a les 19.00h. Converses a l’Espai Ciència 2016\, avui amb Anna Lluch (Departament de Medicina de la UV i Hospital Clínic Universitari de València)  \n  \n  \n\n Converses a l’Espai Ciència 2016 Investigació científica per millorar la nostra vida  “La periodista Reis Juan condueix un programa de ràdio sense ràdio\, amb el suport tècnic de Pepe Moreno.”  Anna Lluch Departament de Medicina (Universitat de València) i Hospital Clínic Universitari\, València  Anna Lluch es va graduar en Medicina per la Universitat de València i s’especialitzà en Hematologia i Oncologia Mèdica a l’Hospital Clínic Universitari de València. L’any 1985 es doctorà per la Universitat de València. Ha treballat com a investigadora invitada en l’Istituto Nazionale dei Tumori de Milà\, el Laboratori de Biologia Experimental i l’Hospital MD Anderson Cancer Center de Houston. És catedràtica de Medicina en la Universitat de València i cap del Servei d’Hematologia i Oncologia de l’Hospital Clínic Universitari de València. Membre de la Societat Espanyola d’Oncologia Mèdica\, de l’European Society for Medical Oncology\, de l’American Society of Clinical Oncology\, de la Societat Espanyola de Senologia i de la Fundació d’Estudis Mastològics. Ha exercit com a assessora del Programa de Diagnòstic Precoç de Càncer de Mama\, membre del Comité Assessor del Pla del Càncer i del Comité Assessor del Programa de Càncer Hereditari al País Valencià. També és investigadora de la Fundació d’Investigació de l’Hospital Clínic i de la Unitat d’Investigació Clínica de Càncer de Mama del Centre Nacional d’Investigacions Oncològiques. L’any 2010 rebé l’Alta Distinció de la Generalitat al mèrit científic i el 2014 fou distingida amb la Medalla de la Universitat de València.  L’Espai Ciència és un programa d’activitats patrocinat per l’Institut d’Estudis Catalans\, Acció Cultural del País Valencià i la Càtedra de Divulgació de la Ciència/Unitat de Cultura Científica de la Universitat de València\, amb el suport del CSIC. Col·laboren en aquesta activitat: Llibreria 3i4 i revista Mètode.  (Crèdit foto)
URL:https://octubre.cat/activitat/anna-lluch/
LOCATION:Sala d’actes
CATEGORIES:Espai Ciència
ATTACH;FMTTYPE=image/jpeg:https://octubre.cat/www/wp-content/uploads/2020/07/activitat2516.jpg
END:VEVENT
END:VCALENDAR