BEGIN:VCALENDAR
VERSION:2.0
PRODID:-//Octubre Centre de Cultura Contemporània - ECPv5.1.6//NONSGML v1.0//EN
CALSCALE:GREGORIAN
METHOD:PUBLISH
X-WR-CALNAME:Octubre Centre de Cultura Contemporània
X-ORIGINAL-URL:https://octubre.cat
X-WR-CALDESC:Events for Octubre Centre de Cultura Contemporània
BEGIN:VTIMEZONE
TZID:Europe/Andorra
BEGIN:DAYLIGHT
TZOFFSETFROM:+0100
TZOFFSETTO:+0200
TZNAME:CEST
DTSTART:20080330T010000
END:DAYLIGHT
BEGIN:STANDARD
TZOFFSETFROM:+0200
TZOFFSETTO:+0100
TZNAME:CET
DTSTART:20081026T010000
END:STANDARD
END:VTIMEZONE
BEGIN:VEVENT
DTSTART;TZID=Europe/Andorra:20080928T190000
DTEND;TZID=Europe/Andorra:20080928T190000
DTSTAMP:20260421T032035
CREATED:20200729T181956Z
LAST-MODIFIED:20200730T035824Z
UID:12636-1222628400-1222628400@octubre.cat
SUMMARY:Andreu Jacob presenta 'A.Jacob's Outside'
DESCRIPTION:Diumenge 28\, a les 19.00h: Andreu Jacob presenta ‘A.Jacob’s Outside’  \n  \n  \n\nConsiderat per la premsa especialitzada com una de les primeres figures del Jazz Post-fussion\, A. Jacob és sens dubte tot un referent en el camp de la investigació musical. Músic\, compositor\, productor i arranjador\, ha treballat en gran quantitat d’espectacles a nivell internacional i nacional\, televisions\, gales i directes\, gravacions en estudi\, producció\, postproducció\, anuncis per a TV\, composicions per a bandes sonores de curts i llargmetratges\, etc.  Especialista en síntesi i innovador en el camp més efectista de l’acústica arquitectònica. Participa en diferents festivals de jazz i seminaris internacionals. Participa en el “Record Guines\, simfonia per 100 bateries (Fer volar coloms)” escrita i dirigida por Santi Arisa… Imparteix i realitza diferents Master Class i clínics en Conservatoris superiors de música\, centres educatius i escoles de música a nivell nacional i internacional. Realitzador de  bancs de prova\, articles\, demostracions i recolzament tècnic  per un gran nombre de revistes i entitats. Al llarg de la seua trajectòria professional és esponsoritzat per signatures com Paiste\, Tama\, Ventamátic\, Directworld\, Adagio\, Clavia\, Casio\,  Native Instruments\, Steinberg\, Propellerhead\, Musicmania\, Fearless estudio\, phantom sound\, Sound Art\, Microfusa\, Sibelius\, PRK  Porrina\, etc.  Andreu Jacob (Taules \, Teclat \, Trompeta i Bateria) Jordi Gaspar (Contrabaix) Marina Albero ( Salteri i Piano )
URL:https://octubre.cat/activitat/andreu-jacob-presenta-a-jacobs-outside/
LOCATION:No definit
CATEGORIES:Diumenges de Jazz!
ATTACH;FMTTYPE=image/jpeg:https://octubre.cat/www/wp-content/uploads/2020/07/activitat658.jpg
END:VEVENT
END:VCALENDAR