BEGIN:VCALENDAR
VERSION:2.0
PRODID:-//Octubre Centre de Cultura Contemporània - ECPv5.1.6//NONSGML v1.0//EN
CALSCALE:GREGORIAN
METHOD:PUBLISH
X-WR-CALNAME:Octubre Centre de Cultura Contemporània
X-ORIGINAL-URL:https://octubre.cat
X-WR-CALDESC:Events for Octubre Centre de Cultura Contemporània
BEGIN:VTIMEZONE
TZID:Europe/Andorra
BEGIN:DAYLIGHT
TZOFFSETFROM:+0100
TZOFFSETTO:+0200
TZNAME:CEST
DTSTART:20090329T010000
END:DAYLIGHT
BEGIN:STANDARD
TZOFFSETFROM:+0200
TZOFFSETTO:+0100
TZNAME:CET
DTSTART:20091025T010000
END:STANDARD
END:VTIMEZONE
BEGIN:VEVENT
DTSTART;TZID=Europe/Andorra:20090212T193000
DTEND;TZID=Europe/Andorra:20090212T193000
DTSTAMP:20260420T223844
CREATED:20200729T182308Z
LAST-MODIFIED:20200729T182308Z
UID:12749-1234467000-1234467000@octubre.cat
SUMMARY:André Gorz\, vist per Joaquin Valdivielso
DESCRIPTION:Dijous 12 de febrer\, a les 19.30h:  “André Gorz”\, vist per Joaquín Valdivielso\, professor de Filosofia de la UIB  \n  \n  \n\nDivulgador dels intel·lectuals radicals germànics dels anys 50 i 60. Pare de l’ecologia política i d’un nou sindicalisme. Joaquin Valdivielso és professor de Filosofia de la Universitat de les Illes Balears.  Aquesta conferència forma part del II Cicle de Pensadors Ambientals
URL:https://octubre.cat/activitat/andre-gorz-vist-per-joaquin-valdivielso/
LOCATION:No definit
CATEGORIES:Institut del Territori
ATTACH;FMTTYPE=image/jpeg:https://octubre.cat/www/wp-content/uploads/2020/07/activitat774.jpg
END:VEVENT
END:VCALENDAR