BEGIN:VCALENDAR
VERSION:2.0
PRODID:-//Octubre Centre de Cultura Contemporània - ECPv5.1.6//NONSGML v1.0//EN
CALSCALE:GREGORIAN
METHOD:PUBLISH
X-WR-CALNAME:Octubre Centre de Cultura Contemporània
X-ORIGINAL-URL:https://octubre.cat
X-WR-CALDESC:Events for Octubre Centre de Cultura Contemporània
BEGIN:VTIMEZONE
TZID:Europe/Andorra
BEGIN:DAYLIGHT
TZOFFSETFROM:+0100
TZOFFSETTO:+0200
TZNAME:CEST
DTSTART:20080330T010000
END:DAYLIGHT
BEGIN:STANDARD
TZOFFSETFROM:+0200
TZOFFSETTO:+0100
TZNAME:CET
DTSTART:20081026T010000
END:STANDARD
END:VTIMEZONE
BEGIN:VEVENT
DTSTART;TZID=Europe/Andorra:20081016T200000
DTEND;TZID=Europe/Andorra:20081016T200000
DTSTAMP:20260420T184050
CREATED:20200729T182007Z
LAST-MODIFIED:20200730T035829Z
UID:12647-1224187200-1224187200@octubre.cat
SUMMARY:Anari
DESCRIPTION:Dijous 16 d’octubre\, a les 20.00h: Anari (rock / Euskadi)  \n  \n  \n\nAnari: rock / Euskadi  Després d’una dècada de carrera en solitari\, aquesta rockera basca\, publicà l’any passat un disc en directe a través de la discogràfica col·lectiva Bidehuts\, 2007ko Martxoaren 31\, Bilboko Kafe Antzokian. Ara mentres preparen nou llançament es presenta per primera vegada a València amb el guitarrista de la seua banda\, Borja Iglesias (ex-Purr\, y actualmente Hotel e Inoren Ero Ni)\, en un recital on la visceralitat i la tendresa es donaran la mà.
URL:https://octubre.cat/activitat/anari/
LOCATION:No definit
CATEGORIES:Cicle de música pop
ATTACH;FMTTYPE=image/gif:https://octubre.cat/www/wp-content/uploads/2020/07/activitat667.gif
END:VEVENT
END:VCALENDAR