BEGIN:VCALENDAR
VERSION:2.0
PRODID:-//Octubre Centre de Cultura Contemporània - ECPv5.1.6//NONSGML v1.0//EN
CALSCALE:GREGORIAN
METHOD:PUBLISH
X-WR-CALNAME:Octubre Centre de Cultura Contemporània
X-ORIGINAL-URL:https://octubre.cat
X-WR-CALDESC:Events for Octubre Centre de Cultura Contemporània
BEGIN:VTIMEZONE
TZID:Europe/Andorra
BEGIN:DAYLIGHT
TZOFFSETFROM:+0100
TZOFFSETTO:+0200
TZNAME:CEST
DTSTART:20080330T010000
END:DAYLIGHT
BEGIN:STANDARD
TZOFFSETFROM:+0200
TZOFFSETTO:+0100
TZNAME:CET
DTSTART:20081026T010000
END:STANDARD
END:VTIMEZONE
BEGIN:VEVENT
DTSTART;TZID=Europe/Andorra:20081116T190000
DTEND;TZID=Europe/Andorra:20081116T190000
DTSTAMP:20260421T072208
CREATED:20200729T182128Z
LAST-MODIFIED:20200730T035859Z
UID:12727-1226862000-1226862000@octubre.cat
SUMMARY:Anacrònic Trio
DESCRIPTION:Diumenge 16 de novembre\, a les 19.00h: Anacrònic Trio  \n  \n  \n\nÉs una formació que es va posar en funcionament en 2005. En un principi\, el seu objetiu era treballar un repertori d’estandards del jazz\, però a poc a poc va anar sorgint la necessita de confeccionar un so més personal i conseqüent amb les inquietuds dels membres del grup. La música electrònica\, el rock o el funk començaren a fusionar-se amb el jazz\, amb l’objectiu de crear sonoritats ambientals quasi cinematogràfiques.  -Hèctor Tirado: guitarra i programacions -Tico Porcar: bateria -Darío Díaz: baix
URL:https://octubre.cat/activitat/anacronic-trio/
LOCATION:No definit
CATEGORIES:Diumenges de Jazz!
ATTACH;FMTTYPE=image/jpeg:https://octubre.cat/www/wp-content/uploads/2020/07/musica1.jpg
END:VEVENT
END:VCALENDAR