BEGIN:VCALENDAR
VERSION:2.0
PRODID:-//Octubre Centre de Cultura Contemporània - ECPv5.1.6//NONSGML v1.0//EN
CALSCALE:GREGORIAN
METHOD:PUBLISH
X-WR-CALNAME:Octubre Centre de Cultura Contemporània
X-ORIGINAL-URL:https://octubre.cat
X-WR-CALDESC:Events for Octubre Centre de Cultura Contemporània
BEGIN:VTIMEZONE
TZID:Europe/Andorra
BEGIN:DAYLIGHT
TZOFFSETFROM:+0100
TZOFFSETTO:+0200
TZNAME:CEST
DTSTART:20220327T010000
END:DAYLIGHT
BEGIN:STANDARD
TZOFFSETFROM:+0200
TZOFFSETTO:+0100
TZNAME:CET
DTSTART:20221030T010000
END:STANDARD
END:VTIMEZONE
BEGIN:VEVENT
DTSTART;TZID=Europe/Andorra:20221125T200000
DTEND;TZID=Europe/Andorra:20221125T200000
DTSTAMP:20260420T205918
CREATED:20220908T101739Z
LAST-MODIFIED:20230201T082351Z
UID:18641-1669406400-1669406400@octubre.cat
SUMMARY:Ana Zomeño
DESCRIPTION:Cantautora i compositora d’indie-folk de l’escena valenciana. Després que el seu últim treball fora nominat al millor àlbum d’artista revelació dels premis Carles Santos i que fora triada per la revista Mondosonoro com un dels 10 millors EP del 2020\, ha realitzat una gira per l’Uruguai a la fi de 2021. Amb 3 EP’s des que va iniciar el seu projecte en 2019\, aconsegueix conquistar al públic amb la seua veu i el seu carisma en l’escenari.\nLa cantautora del cap-i-casal interpreta el clàssic de Raimon “Al meu país la pluja” en l’antologia PELL del MURAL SONOR d’Acció Cultural del País Valencià \n  \n \n—\n“Amb veu de dona” és el segon cicle de cantautores (de cinc concerts) organitzat per Acció Cultural del País Valencià a l’Octubre CCC amb la col·laboració de la Vicepresidència i Conselleria d’Igualtat i Polítiques Inclusives de la Generalitat Valenciana.
URL:https://octubre.cat/activitat/ana-zomeno/
LOCATION:Sala d’actes
CATEGORIES:Amb veu de dona 2022
ATTACH;FMTTYPE=image/jpeg:https://octubre.cat/www/wp-content/uploads/2022/09/ANA-ZOMENO-419.jpg
END:VEVENT
END:VCALENDAR