BEGIN:VCALENDAR
VERSION:2.0
PRODID:-//Octubre Centre de Cultura Contemporània - ECPv5.1.6//NONSGML v1.0//EN
CALSCALE:GREGORIAN
METHOD:PUBLISH
X-WR-CALNAME:Octubre Centre de Cultura Contemporània
X-ORIGINAL-URL:https://octubre.cat
X-WR-CALDESC:Events for Octubre Centre de Cultura Contemporània
BEGIN:VTIMEZONE
TZID:Europe/Andorra
BEGIN:DAYLIGHT
TZOFFSETFROM:+0100
TZOFFSETTO:+0200
TZNAME:CEST
DTSTART:20080330T010000
END:DAYLIGHT
BEGIN:STANDARD
TZOFFSETFROM:+0200
TZOFFSETTO:+0100
TZNAME:CET
DTSTART:20081026T010000
END:STANDARD
END:VTIMEZONE
BEGIN:VEVENT
DTSTART;TZID=Europe/Andorra:20080913T190000
DTEND;TZID=Europe/Andorra:20080913T190000
DTSTAMP:20260421T004319
CREATED:20200729T181943Z
LAST-MODIFIED:20200730T035813Z
UID:12623-1221332400-1221332400@octubre.cat
SUMMARY:Ana Higueras + Manuel Espino + Rafa Suárez
DESCRIPTION:Dissabte 13 de setembre a les 19.00h: Performances d’Ana Higueras (València) + Manuel Espino (València/Sevilla) + Rafa Suárez (Madrid)  \n  \n  \n\nPerformances d’Ana Higueras (València) + Manuel Espino (València/Sevilla) + Rafa Suárez (Madrid)
URL:https://octubre.cat/activitat/ana-higueras-manuel-espino-rafa-suarez/
LOCATION:No definit
CATEGORIES:Arrt d'Accció
ATTACH;FMTTYPE=image/jpeg:https://octubre.cat/www/wp-content/uploads/2020/07/arrtacccio1.jpg
END:VEVENT
END:VCALENDAR