BEGIN:VCALENDAR
VERSION:2.0
PRODID:-//Octubre Centre de Cultura Contemporània - ECPv5.1.6//NONSGML v1.0//EN
CALSCALE:GREGORIAN
METHOD:PUBLISH
X-WR-CALNAME:Octubre Centre de Cultura Contemporània
X-ORIGINAL-URL:https://octubre.cat
X-WR-CALDESC:Events for Octubre Centre de Cultura Contemporània
BEGIN:VTIMEZONE
TZID:Europe/Andorra
BEGIN:DAYLIGHT
TZOFFSETFROM:+0100
TZOFFSETTO:+0200
TZNAME:CEST
DTSTART:20170326T010000
END:DAYLIGHT
BEGIN:STANDARD
TZOFFSETFROM:+0200
TZOFFSETTO:+0100
TZNAME:CET
DTSTART:20171029T010000
END:STANDARD
END:VTIMEZONE
BEGIN:VEVENT
DTSTART;TZID=Europe/Andorra:20170405T190000
DTEND;TZID=Europe/Andorra:20170405T190000
DTSTAMP:20260420T182759
CREATED:20200729T172506Z
LAST-MODIFIED:20200729T185804Z
UID:11081-1491418800-1491418800@octubre.cat
SUMMARY:'Ámbar\, la hija del perfumista'\, d’Antonio Fontales
DESCRIPTION:Dimecres 5 d’abril a les 19.00h. Projecció inclosa en el cicle de cinema valencià 2017. Entrada lliure.  \n  \n  \n\n Ricardo és un jove discjòckei que viu desencantat i solitari. Impassible\, cada nit imagina la seua existència girant en espiral com un disc més en el plat de la vida\, sense arribar mai a fer realitat els seus somnis. Una nit\, una dona misteriosa i guapa apareixerà subtilment ballant en la pista però al ritme de la seua pròpia música. Ell en quedarà màgicament subjugat\, però ella desapareixerà misteriosament. I Ricardo iniciarà la seua cerca desesperada. Al ritme de la música disco que punxa i en contrast amb la seua música interior\, Ámbar és la història d’una recerca\, la recerca d’aquell somni que és un mateix. Un somni ple de contrastos\, subtileses i percepcions personals. Una pel·lícula relaxada\, de cadència poètica i poc habitual que s’allunya del cinema comercial  i que va dedicada a aquells que busquen continguts diferents.  Premi Tirant 2003 a la millor banda sonora.  Direcció\, guió i banda sonora: Antonio Fontales (2002) Direcció de fotografia: Alberto Marco Repartiment: Jaime Linares\, Silvia Rico\, Fernando Seco\, Felip Andreu Producció: Musamovies Durada: 75’  — Cicle de cinema valencià 2017 organitzat amb la col·laboració de Musamovies. Coordinació del cicle: Antonio Lloréns Entrada lliure
URL:https://octubre.cat/activitat/ambar-la-hija-del-perfumista-dantonio-fontales/
LOCATION:Sala d’actes
CATEGORIES:Cicle de cinema valencià 2017
ATTACH;FMTTYPE=image/jpeg:https://octubre.cat/www/wp-content/uploads/2020/07/activitat2800.jpg
END:VEVENT
END:VCALENDAR