BEGIN:VCALENDAR
VERSION:2.0
PRODID:-//Octubre Centre de Cultura Contemporània - ECPv5.1.6//NONSGML v1.0//EN
CALSCALE:GREGORIAN
METHOD:PUBLISH
X-WR-CALNAME:Octubre Centre de Cultura Contemporània
X-ORIGINAL-URL:https://octubre.cat
X-WR-CALDESC:Events for Octubre Centre de Cultura Contemporània
BEGIN:VTIMEZONE
TZID:Europe/Andorra
BEGIN:DAYLIGHT
TZOFFSETFROM:+0100
TZOFFSETTO:+0200
TZNAME:CEST
DTSTART:20210328T010000
END:DAYLIGHT
BEGIN:STANDARD
TZOFFSETFROM:+0200
TZOFFSETTO:+0100
TZNAME:CET
DTSTART:20211031T010000
END:STANDARD
END:VTIMEZONE
BEGIN:VEVENT
DTSTART;TZID=Europe/Andorra:20211022T200000
DTEND;TZID=Europe/Andorra:20211022T200000
DTSTAMP:20260421T010442
CREATED:20210907T085104Z
LAST-MODIFIED:20210907T085104Z
UID:16873-1634932800-1634932800@octubre.cat
SUMMARY:Amb veu de dona: Clara Andrés
DESCRIPTION:Clara Andrés (Oliva\, la Safor\, 1977) ha publicat fins ara tres discos: Dies i dies (La Fournier\, 2008)\, Huit (Chesapik\, 2010) i Entrelínies (Mésdemil\, 2014). També ha produït l’àlbum L’eix radical (Sotabosc\, 2019) com una col·laboració amb Júlia.\nHa obtingut diversos premis Ovidi Montllor i també el primer Premi Miquel Martí i Pol el 2008.\nClara Andrés és una de les veus més delicioses de la música en valencià\, una combinació de cançó d’autora contemporània i elements de pop i folk.\nA l’Octubre CCC vam tindre el plaer d’acollir-la en el primer cicle musical que realitzàrem només obrir el centre la tardor de l’any 2006\, en un cartell que incloïa artistes com Jabier Muguruza\, Fameliars\, Horacio Fumero o Marc Cunningham. També va participar en el festival Hostes de l’any 2013 al nostre centre. \n \n—\n“Amb veu de dona” és un cicle de sis concerts organitzat per Acció Cultural del País Valencià a l’Octubre CCC.
URL:https://octubre.cat/activitat/amb-veu-de-dona-clara-andres/
LOCATION:Sala d’actes
CATEGORIES:Amb veu de dona 2021
ATTACH;FMTTYPE=image/jpeg:https://octubre.cat/www/wp-content/uploads/2021/09/clara_andres_foto7-3-scaled.jpg
END:VEVENT
END:VCALENDAR