BEGIN:VCALENDAR
VERSION:2.0
PRODID:-//Octubre Centre de Cultura Contemporània - ECPv5.1.6//NONSGML v1.0//EN
CALSCALE:GREGORIAN
METHOD:PUBLISH
X-WR-CALNAME:Octubre Centre de Cultura Contemporània
X-ORIGINAL-URL:https://octubre.cat
X-WR-CALDESC:Events for Octubre Centre de Cultura Contemporània
BEGIN:VTIMEZONE
TZID:Europe/Andorra
BEGIN:DAYLIGHT
TZOFFSETFROM:+0100
TZOFFSETTO:+0200
TZNAME:CEST
DTSTART:20240331T010000
END:DAYLIGHT
BEGIN:STANDARD
TZOFFSETFROM:+0200
TZOFFSETTO:+0100
TZNAME:CET
DTSTART:20241027T010000
END:STANDARD
END:VTIMEZONE
BEGIN:VEVENT
DTSTART;TZID=Europe/Andorra:20241004T200000
DTEND;TZID=Europe/Andorra:20241004T200000
DTSTAMP:20260421T132554
CREATED:20240909T150443Z
LAST-MODIFIED:20250710T162303Z
UID:21670-1728072000-1728072000@octubre.cat
SUMMARY:Amb veu de dona 2024: Àgueda Segrelles
DESCRIPTION:Acció Cultural del País Valencià llança el cartell del quart cicle “Amb veu de dona”\, un total de sis concerts destinats a destacar el talent de dones en la música. El cartell queda configurat amb sis noms de l’escena musical actual\, que oferiran les seues actuacions entre setembre i desembre d’enguany.\nAquest cicle\, que s’emmarca dins de la iniciativa d’ACPV per promoure la igualtat de gènere i donar visibilitat a les dones en l’àmbit cultural\, inclou artistes de diversos estils i orígens de la nostra geografia. Tots els concerts es duran a terme a les 20:00 hores. \n  \nÀGUEDA SEGRELLES \nCantautora valenciana\, Àgueda és coneguda per les seues cançons poètiques que combinen elements tradicionals amb sonoritats contemporànies. Les seues lletres són un crit a la introspecció i la connexió amb el món. \n \n\n—\nUna iniciativa d’ACPV que compta amb la col·laboració de la Conselleria de Serveis Socials\, Igualtat i Habitatge de la Generalitat Valenciana\, de la Diputació de València i del Departament de Cultura de la Generalitat de Catalunya.
URL:https://octubre.cat/activitat/amb-veu-de-dona-2024-agueda-segrelles/
LOCATION:Sala d’actes
CATEGORIES:Amb veu de dona 2024
ATTACH;FMTTYPE=image/jpeg:https://octubre.cat/www/wp-content/uploads/2024/09/IMG_1512.jpg
END:VEVENT
END:VCALENDAR