BEGIN:VCALENDAR
VERSION:2.0
PRODID:-//Octubre Centre de Cultura Contemporània - ECPv5.1.6//NONSGML v1.0//EN
CALSCALE:GREGORIAN
METHOD:PUBLISH
X-WR-CALNAME:Octubre Centre de Cultura Contemporània
X-ORIGINAL-URL:https://octubre.cat
X-WR-CALDESC:Events for Octubre Centre de Cultura Contemporània
BEGIN:VTIMEZONE
TZID:Europe/Andorra
BEGIN:DAYLIGHT
TZOFFSETFROM:+0100
TZOFFSETTO:+0200
TZNAME:CEST
DTSTART:20110327T010000
END:DAYLIGHT
BEGIN:STANDARD
TZOFFSETFROM:+0200
TZOFFSETTO:+0100
TZNAME:CET
DTSTART:20111030T010000
END:STANDARD
END:VTIMEZONE
BEGIN:VEVENT
DTSTART;TZID=Europe/Andorra:20110120T200000
DTEND;TZID=Europe/Andorra:20110120T200000
DTSTAMP:20260422T015804
CREATED:20200729T165346Z
LAST-MODIFIED:20200730T042703Z
UID:9126-1295553600-1295553600@octubre.cat
SUMMARY:Amatria
DESCRIPTION:Dijous 20 de gener\, a les 20.00h: Cicle Músiques mínimes. Amatria (València).   \n  \n  \n\nAmatria viu a València. Amatria és Joni Antequera. Joni Antequera va nàixer a Ciutat Reial. Amatria és una banda unipersonal. Amatria no és quelcom de normal. Amatria tampoc no és quelcom de subnormal. Amatria és electrònica. Amatria és literatura. Amatria és ritme. Amatria és suau. Amatria sap colpejar\, Amatria punxa (fins que et fa sang). Amatria fa bon gust. Amatria et tractarà bé. Amatria va guanyar el concurs Vinilo Valencia. Amatria va guanyar el Troglogló. Amatria va guanyar algunes coses més i va perdre tantes altres pel camí. Amatria està preparat per fer-te sentir bé.
URL:https://octubre.cat/activitat/amatria/
LOCATION:No definit
CATEGORIES:Cicle de música pop
ATTACH;FMTTYPE=image/jpeg:https://octubre.cat/www/wp-content/uploads/2020/07/activitat1353.jpg
END:VEVENT
END:VCALENDAR