BEGIN:VCALENDAR
VERSION:2.0
PRODID:-//Octubre Centre de Cultura Contemporània - ECPv5.1.6//NONSGML v1.0//EN
CALSCALE:GREGORIAN
METHOD:PUBLISH
X-WR-CALNAME:Octubre Centre de Cultura Contemporània
X-ORIGINAL-URL:https://octubre.cat
X-WR-CALDESC:Events for Octubre Centre de Cultura Contemporània
BEGIN:VTIMEZONE
TZID:Europe/Andorra
BEGIN:DAYLIGHT
TZOFFSETFROM:+0100
TZOFFSETTO:+0200
TZNAME:CEST
DTSTART:20100328T010000
END:DAYLIGHT
BEGIN:STANDARD
TZOFFSETFROM:+0200
TZOFFSETTO:+0100
TZNAME:CET
DTSTART:20101031T010000
END:STANDARD
END:VTIMEZONE
BEGIN:VEVENT
DTSTART;TZID=Europe/Andorra:20100917T200000
DTEND;TZID=Europe/Andorra:20100917T200000
DTSTAMP:20260421T121149
CREATED:20200729T165014Z
LAST-MODIFIED:20200730T042533Z
UID:8895-1284753600-1284753600@octubre.cat
SUMMARY:Amanida Peiot
DESCRIPTION:Divendres 17 de setembre\, a les 20.00h: Cicle “Intercanvis 2”. Amanida Peiot (La Valldigna / València).   \n  \n  \n\nIntercanvis 2 comença amb el concert d’aquesta banda valenciana\, reconeguts renovadors de la tradició del pop mediterrani iniciat tres dècades enrere per Remigi Palmero\, Pep Laguarda i Bustamante i connectat amb la música de Sisa i Pau Riba. Es defineixen com una orquestrina de música popular en què hi caben també influències psiquedèliques anglosaxones. El seu primer i únic disc Amanida Peiot #1 és una bona síntesi del seu estil i objectius. En aquesta actuació\, oferiran un repertori afí a les seues coordenades creatives\, tot un homenatge a les arrels i també a la seua manera d’entendre la música sense prejudicis.
URL:https://octubre.cat/activitat/amanida-peiot/
LOCATION:No definit
CATEGORIES:Cicle de música pop
ATTACH;FMTTYPE=image/jpeg:https://octubre.cat/www/wp-content/uploads/2020/07/activitat1235.jpg
END:VEVENT
END:VCALENDAR