BEGIN:VCALENDAR
VERSION:2.0
PRODID:-//Octubre Centre de Cultura Contemporània - ECPv5.1.6//NONSGML v1.0//EN
CALSCALE:GREGORIAN
METHOD:PUBLISH
X-WR-CALNAME:Octubre Centre de Cultura Contemporània
X-ORIGINAL-URL:https://octubre.cat
X-WR-CALDESC:Events for Octubre Centre de Cultura Contemporània
BEGIN:VTIMEZONE
TZID:Europe/Andorra
BEGIN:DAYLIGHT
TZOFFSETFROM:+0100
TZOFFSETTO:+0200
TZNAME:CEST
DTSTART:20140330T010000
END:DAYLIGHT
BEGIN:STANDARD
TZOFFSETFROM:+0200
TZOFFSETTO:+0100
TZNAME:CET
DTSTART:20141026T010000
END:STANDARD
END:VTIMEZONE
BEGIN:VEVENT
DTSTART;TZID=Europe/Andorra:20140530T200000
DTEND;TZID=Europe/Andorra:20140530T200000
DTSTAMP:20260421T123313
CREATED:20200729T170438Z
LAST-MODIFIED:20200730T041124Z
UID:9766-1401480000-1401480000@octubre.cat
SUMMARY:Àlvar Carpi presenta 'Carrer Passeig'
DESCRIPTION:Divendres 30 de maig a les 20.00h. Presentació del darrer disc. Organitzat per lacasacalba.org  \n  \n  \n\n  Àlvar Carpi presenta Carrer Passeig\, el disc que recull les cançons que ha anat component al llarg de la seua vida.  Entrada: 5€ Reserva d’entrades a comandes@lacasacalba.org
URL:https://octubre.cat/activitat/alvar-carpi-presenta-carrer-passeig/
CATEGORIES:Música
ATTACH;FMTTYPE=image/jpeg:https://octubre.cat/www/wp-content/uploads/2020/07/activitat2064.jpg
END:VEVENT
END:VCALENDAR