BEGIN:VCALENDAR
VERSION:2.0
PRODID:-//Octubre Centre de Cultura Contemporània - ECPv5.1.6//NONSGML v1.0//EN
CALSCALE:GREGORIAN
METHOD:PUBLISH
X-WR-CALNAME:Octubre Centre de Cultura Contemporània
X-ORIGINAL-URL:https://octubre.cat
X-WR-CALDESC:Events for Octubre Centre de Cultura Contemporània
BEGIN:VTIMEZONE
TZID:Europe/Andorra
BEGIN:DAYLIGHT
TZOFFSETFROM:+0100
TZOFFSETTO:+0200
TZNAME:CEST
DTSTART:20090329T010000
END:DAYLIGHT
BEGIN:STANDARD
TZOFFSETFROM:+0200
TZOFFSETTO:+0100
TZNAME:CET
DTSTART:20091025T010000
END:STANDARD
END:VTIMEZONE
BEGIN:VEVENT
DTSTART;TZID=Europe/Andorra:20090312T200000
DTEND;TZID=Europe/Andorra:20090312T200000
DTSTAMP:20260420T203747
CREATED:20200729T182327Z
LAST-MODIFIED:20251207T175848Z
UID:12766-1236888000-1236888000@octubre.cat
SUMMARY:Alberto Montero
DESCRIPTION:Del seu primer treball s’ha dit que és un dels millors discos de folk-rock psicodèlic mai abans enregistrats a l’Estat espanyol. \n Alberto Montero\, multi-instrumentista\, va realitzar la gravació pràcticament en solitari. Les escasses col·laboracions foren a càrrec de Fernando Junquera\, guitarra i baix\, Marcos Junquera\, bateria\, Ricardo Cortés\, violoncello\, i Josele Castelló\, flauta. \nAquest disc que\, de moment\, és la seua única carta de presentació es titula justament Alberto Montero i està cantat en anglès\, amb una veu brillant i emotiva\, amb guitarres acústiques i elèctriques com a melodia principal i l’aparició ocasional dels instruments abans esmentats. \nL’àlbum fou enregistrat\, en diversos moments de 2006\, als estudis Michel de Alhama de Múrcia\, sota la supervisió d’Eugenio García\, i està produït per Juan Pedro Parras Jarque “Greyhead”. Només se n’han editat 500 còpies en vinil.
URL:https://octubre.cat/activitat/alberto-montero/
LOCATION:Sala d’actes
CATEGORIES:Cicle de música pop
ATTACH;FMTTYPE=image/jpeg:https://octubre.cat/www/wp-content/uploads/2020/07/activitat791.jpg
END:VEVENT
END:VCALENDAR