BEGIN:VCALENDAR
VERSION:2.0
PRODID:-//Octubre Centre de Cultura Contemporània - ECPv5.1.6//NONSGML v1.0//EN
CALSCALE:GREGORIAN
METHOD:PUBLISH
X-WR-CALNAME:Octubre Centre de Cultura Contemporània
X-ORIGINAL-URL:https://octubre.cat
X-WR-CALDESC:Events for Octubre Centre de Cultura Contemporània
BEGIN:VTIMEZONE
TZID:Europe/Andorra
BEGIN:DAYLIGHT
TZOFFSETFROM:+0100
TZOFFSETTO:+0200
TZNAME:CEST
DTSTART:20090329T010000
END:DAYLIGHT
BEGIN:STANDARD
TZOFFSETFROM:+0200
TZOFFSETTO:+0100
TZNAME:CET
DTSTART:20091025T010000
END:STANDARD
END:VTIMEZONE
BEGIN:VEVENT
DTSTART;TZID=Europe/Andorra:20090924T193000
DTEND;TZID=Europe/Andorra:20090924T193000
DTSTAMP:20260420T210022
CREATED:20200729T182556Z
LAST-MODIFIED:20200729T182556Z
UID:12905-1253820600-1253820600@octubre.cat
SUMMARY:Al bell cor del continent
DESCRIPTION:Dijous 24 de setembre\, a les 19.30h: “Al bell cor del continent”\, concert a càrrec del quartet de corda A piacere.   \n  \n  \n\nPrograma  J.Haydn (1732-1809) Quartet en sol menor op.74 nº3 W.A.Mozart (1756-1791) Adagio i Fuga en do menor K546 F.Schubert (1797-1828) Quartetsatz en do menor D.703 Hugo Wolf (1860-1903) Serenata italiana en sol menor
URL:https://octubre.cat/activitat/al-bell-cor-del-continent/
LOCATION:No definit
CATEGORIES:Cicle de Música de Cambra
ATTACH;FMTTYPE=image/jpeg:https://octubre.cat/www/wp-content/uploads/2020/07/musica1.jpg
END:VEVENT
END:VCALENDAR