BEGIN:VCALENDAR
VERSION:2.0
PRODID:-//Octubre Centre de Cultura Contemporània - ECPv5.1.6//NONSGML v1.0//EN
CALSCALE:GREGORIAN
METHOD:PUBLISH
X-WR-CALNAME:Octubre Centre de Cultura Contemporània
X-ORIGINAL-URL:https://octubre.cat
X-WR-CALDESC:Events for Octubre Centre de Cultura Contemporània
BEGIN:VTIMEZONE
TZID:Europe/Andorra
BEGIN:DAYLIGHT
TZOFFSETFROM:+0100
TZOFFSETTO:+0200
TZNAME:CEST
DTSTART:20100328T010000
END:DAYLIGHT
BEGIN:STANDARD
TZOFFSETFROM:+0200
TZOFFSETTO:+0100
TZNAME:CET
DTSTART:20101031T010000
END:STANDARD
END:VTIMEZONE
BEGIN:VEVENT
DTSTART;TZID=Europe/Andorra:20100527T193000
DTEND;TZID=Europe/Andorra:20100527T193000
DTSTAMP:20260420T203935
CREATED:20200729T164829Z
LAST-MODIFIED:20200729T182859Z
UID:8790-1274988600-1274988600@octubre.cat
SUMMARY:Aigua i béns comuns. La intolerable mercantilització del planeta
DESCRIPTION:Dijous 27 de maig\, a les 19.30h: “Aigua i béns comuns. La intolerable mercantilització del planeta”\, a càrrec de Riccardo Petrella\, professor emèrit de la Universitat de Lovaina (Bèlgica) i professor de l’Acadèmia d’Arquitectura de Mendrisso (Suïssa).   \n  \n  \n\nAigua i béns comuns. La intolerable mercantilització del planeta  Conferència de Riccardo Petrella\, professor emèrit de la Universitat de Lovaina (Bèlgica) i professor de l’Acadèmia d’Arquitectura de Mendrisso (Suïssa). Petrella reflexionarà sobre el model neoliberal davant la supervivència dels béns comuns. Privatització\, mercantilització i globalització són alguns dels seus efectes\, que posen en perill la vida en totes les seues facetes. Fins i tot\, després de mercadejar amb els recursos naturals\, aquest model s’ha llançat a la conquesta del coneixement\, a la pirateria i a les patents com a vies lucratives.  Riccardo Petrella (La Spezia\, 1941) és economista i politòleg. Assessor de la Unió Europea\, professor de globalització i societat de la informació en la Universitat de Lovaina\, així com d’ecologia humana a l’Acadèmia d’Arquitectura de Medrisso\, és un dels fundadors del Comitè Internacional per un Contracte Mundial de l’Aigua\, que presideix Mario Soares\, antic president de Portugal. Ha presidit l’Associació per la Universitat Europea del Medi Ambient.  Reconegut adversari de la globalització ultra liberal\, ha sigut també secretari general del comitè italià per al desenvolupament de les ciències socials i director del Centre Europeu per a la Investigació en Ciències Socials de la Unesco. És autor\, entre altres\, de: Els límits de la competitivitat: com s’ha de gestionar l’aldea global (1996)\, El Manifest de l’aigua (2002) i El dret a somniar: propostes per a una societat més humana (2005).   En l’acte\, es presentarà el seu treball més recent Per una nova narració del món\, coeditat per l’IdT i Edicions Tres i Quatre.
URL:https://octubre.cat/activitat/aigua-i-bens-comuns-la-intolerable-mercantilitzacio-del-planeta/
LOCATION:No definit
CATEGORIES:Institut del Territori
ATTACH;FMTTYPE=image/jpeg:https://octubre.cat/www/wp-content/uploads/2020/07/activitat1138.jpg
END:VEVENT
END:VCALENDAR