BEGIN:VCALENDAR
VERSION:2.0
PRODID:-//Octubre Centre de Cultura Contemporània - ECPv5.1.6//NONSGML v1.0//EN
CALSCALE:GREGORIAN
METHOD:PUBLISH
X-WR-CALNAME:Octubre Centre de Cultura Contemporània
X-ORIGINAL-URL:https://octubre.cat
X-WR-CALDESC:Events for Octubre Centre de Cultura Contemporània
BEGIN:VTIMEZONE
TZID:Europe/Andorra
BEGIN:DAYLIGHT
TZOFFSETFROM:+0100
TZOFFSETTO:+0200
TZNAME:CEST
DTSTART:20220327T010000
END:DAYLIGHT
BEGIN:STANDARD
TZOFFSETFROM:+0200
TZOFFSETTO:+0100
TZNAME:CET
DTSTART:20221030T010000
END:STANDARD
END:VTIMEZONE
BEGIN:VEVENT
DTSTART;TZID=Europe/Andorra:20220503T190000
DTEND;TZID=Europe/Andorra:20220503T190000
DTSTAMP:20260420T181128
CREATED:20220426T061627Z
LAST-MODIFIED:20221004T093043Z
UID:18190-1651604400-1651604400@octubre.cat
SUMMARY:Àgueda Micó: “Valencianisme o barbàrie”
DESCRIPTION:Conferència-xarrada amb Àgueda Micó\, coportaveu de Compromís. \nParticipen en l’acte:\n—Antonio Estañ\, professor i membre de Cambiemos Orihuela.\n—Anna Oliver i Borràs\, presidenta d’Acció Cultural del País Valencià. \n—\nActe organitzat per Acció Cultural del País Valencià.
URL:https://octubre.cat/activitat/agueda-mico-valencianisme-o-barbarie/
LOCATION:Hall
CATEGORIES:Cicle País Valencià i Futur
ATTACH;FMTTYPE=image/jpeg:https://octubre.cat/www/wp-content/uploads/2022/04/agueda-mico-3.jpg
END:VEVENT
END:VCALENDAR