BEGIN:VCALENDAR
VERSION:2.0
PRODID:-//Octubre Centre de Cultura Contemporània - ECPv5.1.6//NONSGML v1.0//EN
CALSCALE:GREGORIAN
METHOD:PUBLISH
X-WR-CALNAME:Octubre Centre de Cultura Contemporània
X-ORIGINAL-URL:https://octubre.cat
X-WR-CALDESC:Events for Octubre Centre de Cultura Contemporània
BEGIN:VTIMEZONE
TZID:Europe/Andorra
BEGIN:DAYLIGHT
TZOFFSETFROM:+0100
TZOFFSETTO:+0200
TZNAME:CEST
DTSTART:20140330T010000
END:DAYLIGHT
BEGIN:STANDARD
TZOFFSETFROM:+0200
TZOFFSETTO:+0100
TZNAME:CET
DTSTART:20141026T010000
END:STANDARD
END:VTIMEZONE
BEGIN:VEVENT
DTSTART;TZID=Europe/Andorra:20140609T190000
DTEND;TZID=Europe/Andorra:20140609T190000
DTSTAMP:20260421T072325
CREATED:20200729T170431Z
LAST-MODIFIED:20200730T041118Z
UID:9758-1402340400-1402340400@octubre.cat
SUMMARY:'Agronautas'\, de Juan Dopico
DESCRIPTION:Dilluns 9 de juny a les 19.00h. Projecció inclosa en el Vé Cicle de Cinema i Ecologia d’Ecologistes en Acció  \n  \n  \n\n Euskadi\, 2013. 53 minuts  Un compendi de veus que proposen alternatives a un sistema econòmic que està esgotant els recursos del planeta.  Pel·lícula documental fruit de la primera fase d’exploració del projecte Agronautas. Durant 2011 i 2012 s’enregistraren 40 experiències col·lectives\, un total de 56 persones que desenvolupen iniciatives que reformulen la relació entre les persones i el medi natural\, ja siga a nivell individual\, en comunitats o a través de la seua activitat professional. El documental està dividit en quatre blocs temàtics: agricultura\, energia i ecologia\, arquitectura i tecnologia i política i societat.  Cicle organitzat per Ecologistes en Acció de València
URL:https://octubre.cat/activitat/agronautas-de-juan-dopico/
LOCATION:Sala d’actes
CATEGORIES:Vé Cicle de Cinema i Ecologia
ATTACH;FMTTYPE=image/jpeg:https://octubre.cat/www/wp-content/uploads/2020/07/activitat2055.jpg
END:VEVENT
END:VCALENDAR