BEGIN:VCALENDAR
VERSION:2.0
PRODID:-//Octubre Centre de Cultura Contemporània - ECPv5.1.6//NONSGML v1.0//EN
CALSCALE:GREGORIAN
METHOD:PUBLISH
X-WR-CALNAME:Octubre Centre de Cultura Contemporània
X-ORIGINAL-URL:https://octubre.cat
X-WR-CALDESC:Events for Octubre Centre de Cultura Contemporània
BEGIN:VTIMEZONE
TZID:Europe/Andorra
BEGIN:DAYLIGHT
TZOFFSETFROM:+0100
TZOFFSETTO:+0200
TZNAME:CEST
DTSTART:20120325T010000
END:DAYLIGHT
BEGIN:STANDARD
TZOFFSETFROM:+0200
TZOFFSETTO:+0100
TZNAME:CET
DTSTART:20121028T010000
END:STANDARD
END:VTIMEZONE
BEGIN:VEVENT
DTSTART;TZID=Europe/Andorra:20120621T000000
DTEND;TZID=Europe/Andorra:20120728T000000
DTSTAMP:20260422T094602
CREATED:20200729T165805Z
LAST-MODIFIED:20200830T114419Z
UID:9389-1340236800-1343433600@octubre.cat
SUMMARY:'Afganistan possible'\, de Rubén Guillem
DESCRIPTION:Exposició de fotografies de Rubén Guillem \nAfganistan possible és una mostra de 35 fotografies en blanc i negre\, realitzades per Rubén Guillem durant el rodatge del documental Els ulls d’Ariadna (del qual va ser productor)\, que li va permetre recórrer Afganistan durant cinc setmanes i mostrar al món la cara més amable d’aquest país asiàtic\, sense aprofundir en els seus conflictes ni misèries. Segons el propi Guillem\, en aquesta exposició “he volgut retratar una normalitat que mai no veiem en els informatius\, el dia a dia de la gent comú que viu en aquesta situació. Sense dubte\, es veuen vestigis de la destrucció i desolació en que el país ha viscut les darreres dècades\, perquè és inevitable\, però no hi ha arme. Gent que es dedica al cinema\, a la poesia\, al teatre\, a cuinar en els mercats\, a fer el pa de cada dia\, a cuidar els seus cavalls\, en fi\, a coses normals. Gent que vol un altre país\, en pau\, sense ingerències\, viable: un Afganistan possible”. \nEl fotògraf valencià Rubén Guillem es va formar en el Centre d’Estudis Cinematogràfics de Catalunya (CECC) i es va especialitzar en fotografia i fotoperiodisme (UAB). Ha treballat en la producció de diverses pel·lícules i ha fet reportatges fotogràfics a més de trenta països. \nExposició produïda per Apremia (Associació per a la Recuperació de la Memòria Internacional Audiovisual) amb la col·laboració de l’Ambaixada d’Estats Units a Espanya i la Fundación Tres Culturas. \nEl divendres 29 de juny a les 19.00h es projectarà el film Els ulls d’Ariana
URL:https://octubre.cat/activitat/afganistan-possible-de-ruben-guillem/
LOCATION:No definit
CATEGORIES:Exposicions
ATTACH;FMTTYPE=image/jpeg:https://octubre.cat/www/wp-content/uploads/2020/07/activitat1632.jpg
END:VEVENT
END:VCALENDAR