BEGIN:VCALENDAR
VERSION:2.0
PRODID:-//Octubre Centre de Cultura Contemporània - ECPv5.1.6//NONSGML v1.0//EN
CALSCALE:GREGORIAN
METHOD:PUBLISH
X-WR-CALNAME:Octubre Centre de Cultura Contemporània
X-ORIGINAL-URL:https://octubre.cat
X-WR-CALDESC:Events for Octubre Centre de Cultura Contemporània
BEGIN:VTIMEZONE
TZID:Europe/Andorra
BEGIN:DAYLIGHT
TZOFFSETFROM:+0100
TZOFFSETTO:+0200
TZNAME:CEST
DTSTART:20080330T010000
END:DAYLIGHT
BEGIN:STANDARD
TZOFFSETFROM:+0200
TZOFFSETTO:+0100
TZNAME:CET
DTSTART:20081026T010000
END:STANDARD
END:VTIMEZONE
BEGIN:VEVENT
DTSTART;TZID=Europe/Andorra:20080626T193000
DTEND;TZID=Europe/Andorra:20080626T193000
DTSTAMP:20260420T235005
CREATED:20200729T181931Z
LAST-MODIFIED:20200730T035804Z
UID:12611-1214508600-1214508600@octubre.cat
SUMMARY:Acte del PEN Català / Acte suspès
DESCRIPTION:AQUEST ACTE S’HA SUSPÈS I SE CELEBRARÀ LA TARDOR DE 2008   Presentació dels llibres Escrits des de la presó (una coedició del PEN Català amb Editorial Aresta\, que és la versió catalana del volum This prison where I live\, recull de testimoniatges de captiveri per part de diversos escriptors) i Sol cec (poemes d’amor i de lluita del poeta algerià en llengua amaziga Salem Zenia\, amb assistència de l’autor).  Posteriorment\, conferència d’Antoni Furió (Director de Publicacions de la UV): “Literatura i mercat virtual: la digitalització de les obres literàries conrtemporànies”.
URL:https://octubre.cat/activitat/acte-del-pen-catala-acte-suspes/
LOCATION:No definit
CATEGORIES:Literatura
ATTACH;FMTTYPE=image/jpeg:https://octubre.cat/www/wp-content/uploads/2020/07/llibres1.jpg
END:VEVENT
END:VCALENDAR