BEGIN:VCALENDAR
VERSION:2.0
PRODID:-//Octubre Centre de Cultura Contemporània - ECPv5.1.6//NONSGML v1.0//EN
CALSCALE:GREGORIAN
METHOD:PUBLISH
X-WR-CALNAME:Octubre Centre de Cultura Contemporània
X-ORIGINAL-URL:https://octubre.cat
X-WR-CALDESC:Events for Octubre Centre de Cultura Contemporània
BEGIN:VTIMEZONE
TZID:Europe/Andorra
BEGIN:DAYLIGHT
TZOFFSETFROM:+0100
TZOFFSETTO:+0200
TZNAME:CEST
DTSTART:20210328T010000
END:DAYLIGHT
BEGIN:STANDARD
TZOFFSETFROM:+0200
TZOFFSETTO:+0100
TZNAME:CET
DTSTART:20211031T010000
END:STANDARD
END:VTIMEZONE
BEGIN:VEVENT
DTSTART;TZID=Europe/Andorra:20210605T120000
DTEND;TZID=Europe/Andorra:20210605T140000
DTSTAMP:20260421T115929
CREATED:20210602T092607Z
LAST-MODIFIED:20210602T092624Z
UID:16576-1622894400-1622901600@octubre.cat
SUMMARY:Acte de cloenda de l’exposició «Lehna»
DESCRIPTION:El dissabte dia 5 de juny\, entre les 12h i les 14h\, el fotògraf Josep Escuin estarà a la sala per clausurar la seua exposició «Lehna». En aquest acte de cloenda totes les persones que ho desitgen\, podran emportar-se gratuïtament una prova d’autor de les que estan exposades a la mateixa sala i signada com a tal. \nLes proves d’autor que es regalaran estan impreses en paper reciclat A3\, i van introduïdes en un plàstic transparent que porta inscrita la numeració de l’arxiu de la imatge que conté. \nNomés es regalarà una prova d’autor per persona i fins que s’esgoten les existències.
URL:https://octubre.cat/activitat/acte-de-cloenda-de-lexposicio-lehna/
LOCATION:Sala d’exposicions
CATEGORIES:Exposicions
ATTACH;FMTTYPE=image/jpeg:https://octubre.cat/www/wp-content/uploads/2021/06/JoepEscuin.LEHNA_.IMG_8707.jpg
END:VEVENT
END:VCALENDAR