BEGIN:VCALENDAR
VERSION:2.0
PRODID:-//Octubre Centre de Cultura Contemporània - ECPv5.1.6//NONSGML v1.0//EN
CALSCALE:GREGORIAN
METHOD:PUBLISH
X-WR-CALNAME:Octubre Centre de Cultura Contemporània
X-ORIGINAL-URL:https://octubre.cat
X-WR-CALDESC:Events for Octubre Centre de Cultura Contemporània
BEGIN:VTIMEZONE
TZID:Europe/Andorra
BEGIN:DAYLIGHT
TZOFFSETFROM:+0100
TZOFFSETTO:+0200
TZNAME:CEST
DTSTART:20120325T010000
END:DAYLIGHT
BEGIN:STANDARD
TZOFFSETFROM:+0200
TZOFFSETTO:+0100
TZNAME:CET
DTSTART:20121028T010000
END:STANDARD
END:VTIMEZONE
BEGIN:VEVENT
DTSTART;TZID=Europe/Andorra:20120308T190000
DTEND;TZID=Europe/Andorra:20120308T190000
DTSTAMP:20260421T151512
CREATED:20200729T165708Z
LAST-MODIFIED:20200730T042936Z
UID:9331-1331233200-1331233200@octubre.cat
SUMMARY:'Abans'
DESCRIPTION:Dijous 8 de març a les 19.00h. Projecció del documental “Abans”\, de Pilar Carrillo  \n  \n  \n\nProjecció del documental Abans de Pilar Carrillo                Una docuficció ambientada en Monòver i La Romana (Vinalopó Mitjà) i que recull la cultura popular i els parlars del valencià de la zona\, a través d’una família. Aquest film ha estat seleccionat a la darrera Mostra de Cinema del Mediterrani i està basat en el llibre “Això diu que era” de la mateixa autora.  Fitxa tècnica Abans (77 minuts\, 2010) Guió i direcció: Pilar Carrillo Director de Producció: Lorenzo Serratosa Imatge: Juanjo Company Muntatge: Pilar Carrillo Intèrprets: Pilar Pastor\, Juan José Pastor\, José Luis Carrillo i Paco Canicio.  Una dona jubilada conviu amb el seu marit i el seu germà. Els tres conversen amb freqüència sobre la seua infància i joventut. També sobre els canvis que s’han produït des d’aleshores amb l’abandonament de la terra\, de la indústria de l’espart i de l’aparició de la tecnologia. Els dos homes volen modernitzar el seu entorn\, però ella sent la temptació de recuperar el món perdut i de rendir culte als seus avantpassats.
URL:https://octubre.cat/activitat/abans/
LOCATION:No definit
CATEGORIES:Cinema
ATTACH;FMTTYPE=image/jpeg:https://octubre.cat/www/wp-content/uploads/2020/07/activitat1573.jpg
END:VEVENT
END:VCALENDAR