BEGIN:VCALENDAR
VERSION:2.0
PRODID:-//Octubre Centre de Cultura Contemporània - ECPv5.1.6//NONSGML v1.0//EN
CALSCALE:GREGORIAN
METHOD:PUBLISH
X-WR-CALNAME:Octubre Centre de Cultura Contemporània
X-ORIGINAL-URL:https://octubre.cat
X-WR-CALDESC:Events for Octubre Centre de Cultura Contemporània
BEGIN:VTIMEZONE
TZID:Europe/Andorra
BEGIN:DAYLIGHT
TZOFFSETFROM:+0100
TZOFFSETTO:+0200
TZNAME:CEST
DTSTART:20080330T010000
END:DAYLIGHT
BEGIN:STANDARD
TZOFFSETFROM:+0200
TZOFFSETTO:+0100
TZNAME:CET
DTSTART:20081026T010000
END:STANDARD
END:VTIMEZONE
BEGIN:VEVENT
DTSTART;TZID=Europe/Andorra:20081030T200000
DTEND;TZID=Europe/Andorra:20081030T200000
DTSTAMP:20260420T215323
CREATED:20200729T182008Z
LAST-MODIFIED:20200730T035829Z
UID:12648-1225396800-1225396800@octubre.cat
SUMMARY:Aaron Thomas + Emma Get Wild
DESCRIPTION:Dijous 30 d’octubre a les 20.00h: Aaron Thomas: folk / Austràlia Emma Get Wild: folk / València  \n  \n  \n\nAaron Thomas: folk / Austràlia Emma Get Wild: folk / València  Si alguna cosa tenen en comú aquestes dues propostes és la seua facilitat per comprondre cançons sinceres\, amb una dicció anglesa de primera. Nogensmenys\, Isa Castro (cantant d’Emma Get Wild) i Aaron Thomas\, s’han criat a Anglaterra i Austràlia\, respectivament. Així\, tant els valencians com l’australià\, afincat a Madrid\, actuaran en format acústic\, per presentar els seus respectius nous àlbums; pel que fa a Aaron Thomas el primer\, produit per Julio de la Rosa\, “Follow the elephants”\, i Emma Get Wild\, amb Salva Fito a la guitarra\, el segon\, anomenat “These sounds that make the animals”.
URL:https://octubre.cat/activitat/aaron-thomas-emma-get-wild/
LOCATION:No definit
CATEGORIES:Cicle de música pop
ATTACH;FMTTYPE=image/jpeg:https://octubre.cat/www/wp-content/uploads/2020/07/activitat668.jpg
END:VEVENT
END:VCALENDAR