BEGIN:VCALENDAR
VERSION:2.0
PRODID:-//Octubre Centre de Cultura Contemporània - ECPv5.1.6//NONSGML v1.0//EN
CALSCALE:GREGORIAN
METHOD:PUBLISH
X-WR-CALNAME:Octubre Centre de Cultura Contemporània
X-ORIGINAL-URL:https://octubre.cat
X-WR-CALDESC:Events for Octubre Centre de Cultura Contemporània
BEGIN:VTIMEZONE
TZID:Europe/Andorra
BEGIN:DAYLIGHT
TZOFFSETFROM:+0100
TZOFFSETTO:+0200
TZNAME:CEST
DTSTART:20110327T010000
END:DAYLIGHT
BEGIN:STANDARD
TZOFFSETFROM:+0200
TZOFFSETTO:+0100
TZNAME:CET
DTSTART:20111030T010000
END:STANDARD
END:VTIMEZONE
BEGIN:VEVENT
DTSTART;TZID=Europe/Andorra:20110417T190000
DTEND;TZID=Europe/Andorra:20110417T190000
DTSTAMP:20260421T224711
CREATED:20200729T165510Z
LAST-MODIFIED:20200730T042808Z
UID:9214-1303066800-1303066800@octubre.cat
SUMMARY:Aaron Liddard Quartet
DESCRIPTION:Diumenge 17 d’abril\, a les 19.00h: Aaron Liddard Quartet (Londres).   \n  \n  \n\nAaron Liddard és artista promotor de Yamaha i a més\, saxofonista d’Amy Winehouse. Ha tocat també amb Prince i Beverly Knight\, entre altres. Liddard i  Matt Baker treballen junts des del 2000 en un parell de projectes. En aquest quartet\, usen els originals propis com a base de l’actuació\, però també alguns estàndards del bebop\, amb clares influències funk i soul\, resultant en un so diferent i bastant particular. Al costat del bateria Michael Caterisano (que a més de bateria\, és discjòquei –el seu nom de guerra és DJ Cutlet– i treballa a l’orquestra del Palau de les Arts) i del teclista Albert Palau\, sorgeix aquest nou projecte amb molta energia i gran creativitat\, amb composicions pròpies majoritàriament escrites pel tàndem Liddard-Caterisano.   Aaron Liddard\, saxo tenor Albert Palau\, teclats Matt Baker\, contrabaix Michael Caterisano\, DJ i bateria
URL:https://octubre.cat/activitat/aaron-liddard-quartet/
LOCATION:No definit
CATEGORIES:Diumenges de Jazz!
ATTACH;FMTTYPE=image/jpeg:https://octubre.cat/www/wp-content/uploads/2020/07/activitat1442.jpg
END:VEVENT
END:VCALENDAR