BEGIN:VCALENDAR
VERSION:2.0
PRODID:-//Octubre Centre de Cultura Contemporània - ECPv5.1.6//NONSGML v1.0//EN
CALSCALE:GREGORIAN
METHOD:PUBLISH
X-WR-CALNAME:Octubre Centre de Cultura Contemporània
X-ORIGINAL-URL:https://octubre.cat
X-WR-CALDESC:Events for Octubre Centre de Cultura Contemporània
BEGIN:VTIMEZONE
TZID:Europe/Andorra
BEGIN:DAYLIGHT
TZOFFSETFROM:+0100
TZOFFSETTO:+0200
TZNAME:CEST
DTSTART:20160327T010000
END:DAYLIGHT
BEGIN:STANDARD
TZOFFSETFROM:+0200
TZOFFSETTO:+0100
TZNAME:CET
DTSTART:20161030T010000
END:STANDARD
END:VTIMEZONE
BEGIN:VEVENT
DTSTART;TZID=Europe/Andorra:20160210T190000
DTEND;TZID=Europe/Andorra:20160210T190000
DTSTAMP:20260421T153302
CREATED:20200729T171547Z
LAST-MODIFIED:20200729T185357Z
UID:10483-1455130800-1455130800@octubre.cat
SUMMARY:'A tu què et sembla?'\, de Pau Poch
DESCRIPTION:Dimecres 10 de febrer a les 19.00h. Cicle de cinema social. Entrada lliure.  \n  \n  \n\n És un documental sobre el cas de l’Ester Quintana\, la dona que va perdre un ull a la manifestació de la vaga general del 14N del 2012 a Barcelona. El documental recull el testimoni de la pròpia Ester i el d’altres persones vinculades a la lluita a favor de la prohibició de les bales de goma. També ofereix altres punts de vista que conviden a la reflexió sobre l’impacte d’aquest cas en la societat i la seva trascendència en la manera de fer política.   Guió i direcció: Pau Poch (2015) Productora: Teresa Manubens Producció: Saray del Olmo\, Elga García\, Kike Bendito Operadors de càmera: Raúl Gómez\, Abel Echeverría\, Ana Ferrón Tècnics de so: Arnau Jofré\, Daniel Jover Elèctrics: Natalia Miguel\, Raúl Gómez Edició: Teresa Manubens Entrevistes: Pau Poch Etalonatge: Ana Ferrón Disseny gràfic i animació: Sílvia Valls i Kitiari Ferran Postproducció de so: Gerard Casajús Compositor musical: Jordi Contreras Durada: 70’  — Entrada lliure Organitzat amb la col·laboració d’El Cine Social Coordinació del cicle: Antonio Lloréns
URL:https://octubre.cat/activitat/a-tu-que-et-sembla-de-pau-poch/
LOCATION:Sala d’actes
CATEGORIES:Tercer cicle de cinema social
ATTACH;FMTTYPE=image/jpeg:https://octubre.cat/www/wp-content/uploads/2020/07/activitat2488.jpg
END:VEVENT
END:VCALENDAR