BEGIN:VCALENDAR
VERSION:2.0
PRODID:-//Octubre Centre de Cultura Contemporània - ECPv5.1.6//NONSGML v1.0//EN
CALSCALE:GREGORIAN
METHOD:PUBLISH
X-WR-CALNAME:Octubre Centre de Cultura Contemporània
X-ORIGINAL-URL:https://octubre.cat
X-WR-CALDESC:Events for Octubre Centre de Cultura Contemporània
BEGIN:VTIMEZONE
TZID:Europe/Andorra
BEGIN:DAYLIGHT
TZOFFSETFROM:+0100
TZOFFSETTO:+0200
TZNAME:CEST
DTSTART:20100328T010000
END:DAYLIGHT
BEGIN:STANDARD
TZOFFSETFROM:+0200
TZOFFSETTO:+0100
TZNAME:CET
DTSTART:20101031T010000
END:STANDARD
END:VTIMEZONE
BEGIN:VEVENT
DTSTART;TZID=Europe/Andorra:20100227T120000
DTEND;TZID=Europe/Andorra:20100227T120000
DTSTAMP:20260420T191954
CREATED:20200729T164741Z
LAST-MODIFIED:20200729T182815Z
UID:8742-1267272000-1267272000@octubre.cat
SUMMARY:A Bausset\, cent anys
DESCRIPTION:Dissabte 27 de febrer\, a les 12.00h: Homenatge a Josep Lluís Bausset en el seu centè aniversari. Amb Josep M. Soler (abat de Montserrat)\, Jordi Pujol (president de la Generalitat de Catalunya 1980-2003) i Eliseu Climent (president d’ACPV).   \n  \n  \n\nActe d’homenatge a Josep Lluís Bausset\, amb motiu del seu centè aniversari\, amb la presència de Josep M. Soler\, abat de Montserrat\, de Jordi Pujol\, president de la Generalitat de Catalunya entre 1980 i 2003\, i d’Eliseu Climent\, president d’Acció Cultural del País Valencià.   Josep Lluís Bausset i Císcar (l’Alcúdia\, 1910) és mestre\, activista cultural i polític. Llicenciat en Farmàcia i Químiques\, practicant en Medicina i Cirurgia\, titulat en Magisteri i gran aficionat a la botànica\, fou militant de la Federació Universitària Espanyola (FUE) a Madrid a finals dels anys 20. Vinculat a l’Agrupació Valencianista La Senyera en els 30\, fou amic inseparable de Joan Fuster\, Vicent Ventura\, Manuel Sanchis Guarner i Francesc Ferrer i Pastor. Durant la dictadura\, fou dels primers a fer ràdio en català al País Valencià. Signant del manifest Més de 20.000 valencians demanen l’ús de la seua llengua als actes religiosos\, va impulsar les revistes Parlem i Vencill i fundà el Partit Socialista del País Valencià del seu poble natal. També va contribuir a l’organització de les primeres edicions del Premis Octubre. El 2000 va rebre el Premi d’Actuació Cívica de la Fundació Lluís Carulla. És president d’honor del Bloc de Progrés Jaume I de l’Alcúdia.
URL:https://octubre.cat/activitat/a-bausset-cent-anys/
LOCATION:No definit
CATEGORIES:Conferències i congressos
ATTACH;FMTTYPE=image/jpeg:https://octubre.cat/www/wp-content/uploads/2020/07/activitat1088.jpg
END:VEVENT
END:VCALENDAR