BEGIN:VCALENDAR
VERSION:2.0
PRODID:-//Octubre Centre de Cultura Contemporània - ECPv5.1.6//NONSGML v1.0//EN
CALSCALE:GREGORIAN
METHOD:PUBLISH
X-WR-CALNAME:Octubre Centre de Cultura Contemporània
X-ORIGINAL-URL:https://octubre.cat
X-WR-CALDESC:Events for Octubre Centre de Cultura Contemporània
BEGIN:VTIMEZONE
TZID:Europe/Andorra
BEGIN:DAYLIGHT
TZOFFSETFROM:+0100
TZOFFSETTO:+0200
TZNAME:CEST
DTSTART:20180325T010000
END:DAYLIGHT
BEGIN:STANDARD
TZOFFSETFROM:+0200
TZOFFSETTO:+0100
TZNAME:CET
DTSTART:20181028T010000
END:STANDARD
END:VTIMEZONE
BEGIN:VEVENT
DTSTART;TZID=Europe/Andorra:20180627T190000
DTEND;TZID=Europe/Andorra:20180627T190000
DTSTAMP:20260421T132124
CREATED:20200729T173056Z
LAST-MODIFIED:20200729T190903Z
UID:11238-1530126000-1530126000@octubre.cat
SUMMARY:8è DataBeers VLC
DESCRIPTION:Dimecres 27 de juny a les 19.00h. Una iniciativa per a comunicar i difondre els beneficis i avanços en el camp de la ciència de dades d’una manera relaxada i divertida\, i amb una cervesa a la mà. Assistència gratuïta + cervesa de cortesia a través d’inscripció.	 \n  \n  \n\n 	 DataBeers València (@databeersvlc) es una iniciativa per a comunicar i difondre els beneficis i avanços en el camp de la ciència de dades d’una manera relaxada i divertida\, i amb una cervesa a la mà. Aquesta edició especial d’estiu\, de perfil clarament internacional\, s’emmarca dins de les activitats de la Summer School on Data Science de la Universitat de València.   Programa  –Ro(bot) rocks: how data is produced\, analysed and used in the music industry Alexandre Perrin (Berklee School of Music València)  –The impact of job evaluations in the organization Andrés Navarro (INMERCO)  –Improving sustainability through data Víctor H. Sáez Gómez (La Pinada)  –How to make money with big data in basketball Javier Bosch / Miguel Bullón (NBN23)  La cervesa de benvinguda és cortesia de la Summer School on Data Science de la Universitat de València.  ASSISTÈNCIA per inscripció gratuïta + cervesa de cortesia a través d’aquest formulari.  — Ho organitzen el col·lectiu Databeers VLC\, l’Espai Ciència d’Acció Cultural del País Valencià i l’Escola Tècnica Superior d’Enginyeria (ETSE-UV) de la Universitat de València.
URL:https://octubre.cat/activitat/8e-databeers-vlc/
LOCATION:No definit
CATEGORIES:DataBeers
ATTACH;FMTTYPE=image/jpeg:https://octubre.cat/www/wp-content/uploads/2020/07/activitat3081.jpg
END:VEVENT
END:VCALENDAR